{"text_format":"1","workbook":"xlsx","n_sheets":23,"sheets":["Sheet3","基本情報","入力シート","請求1","請求2","請求3","請求4","請求5","請求6","請求7","請求8","請求9","請求10","請求11","請求12","請求13","請求14","請求15","請求16","請求17","請求18","請求19","請求20"],"not_rendered":{"charts":0,"images":0,"macros":1,"external_links":0,"defined_names":25,"comments":1,"pivot_tables":0},"unopened":[],"bounds":{"document_bytes":16777216,"sheet_cells":100000,"rows_first":2000,"rows_last":500,"rows_between":2000,"halvings":0,"cell_chars":16384,"cell_head_chars":4096},"cells_cut":0,"cells_raw":0,"read":"whole","date_system":"1900"}

{"sheet":"Sheet3","index":0,"n_rows":12,"n_cols":3,"rows_kept":12,"cut":false,"hidden":true,"merged":[]}
["研究費種別","科研補助金","科研基金"]
["教研一般","代表","代表"]
["教研重点","分担","分担"]
["地研"]
["地研予備"]
["科研補助金"]
["科研基金"]
["受研"]
["共研"]
["受事"]
["寄附"]
["補助金"]

{"sheet":"基本情報","index":1,"n_rows":33,"n_cols":10,"rows_kept":33,"cut":false,"hidden":false,"merged":[[1,1,1,7],[32,3,32,6],[12,3,12,6],[7,2,7,4],[8,4,8,5],[8,2,8,3],[9,2,9,3],[9,4,9,5],[7,6,7,7],[8,6,8,7],[9,6,9,7],[27,3,27,6],[28,3,28,6],[29,3,29,6],[30,3,30,6],[31,3,31,6],[24,3,24,6],[25,3,25,6],[26,3,26,6],[18,3,18,6],[19,3,19,6],[20,3,20,6],[21,3,21,6],[22,3,22,6],[23,3,23,6],[17,3,17,6],[4,1,4,2],[13,3,13,6],[14,3,14,6],[15,3,15,6],[16,3,16,6]]}
[]
[null,"■　基本情報登録シート　■"]
[]
[null,"【請求者情報】"]
[null,"所属学科",null,null,"職名",null,"氏名"]
[]
[null,"【口座情報】"]
[null,"金融機関名",null,null,null,"支店名"]
[null,"預金種別",null,null,"口座番号"]
[null,"口座名義",null,null,"フリガナ"]
[]
[null,"【予算科目情報】"]
[null,"研究費種別","代表・分担","相手先名"]
[null,null,null,null,null,null,null,null,{"$f":"B14&\"-\"&C14&\"-\"&D14","v":"--"},{"$f":"SUMIF(予算科目,I14,金額)","v":0}]
[null,null,null,null,null,null,null,null,{"$f":"B15&\"-\"&C15&\"-\"&D15","v":"--"},0]
[null,null,null,null,null,null,null,null,"--",0]
[null,null,null,null,null,null,null,null,"--",0]
[null,null,null,null,null,null,null,null,"--",0]
[null,null,null,null,null,null,null,null,"--",0]
[null,null,null,null,null,null,null,null,"--",0]
[null,null,null,null,null,null,null,null,{"$f":"B21&\"-\"&C21&\"-\"&D21","v":"--"},0]
[null,null,null,null,null,null,null,null,"--",0]
[null,null,null,null,null,null,null,null,"--",0]
[null,null,null,null,null,null,null,null,"--",0]
[null,null,null,null,null,null,null,null,"--",0]
[null,null,null,null,null,null,null,null,"--",0]
[null,null,null,null,null,null,null,null,"--",0]
[null,null,null,null,null,null,null,null,"--",0]
[null,null,null,null,null,null,null,null,"--",0]
[null,null,null,null,null,null,null,null,"--",0]
[null,null,null,null,null,null,null,null,"--",0]
[null,null,null,null,null,null,null,null,"--",0]
[null,null,null,null,null,null,null,null,"--",0]

{"sheet":"入力シート","index":2,"n_rows":39,"n_cols":8,"rows_kept":39,"cut":false,"hidden":false,"merged":[[2,1,2,6],[0,1,0,6],[15,3,15,4]]}
[null,"立替払請求書　入力用シート"]
[]
[null,"立替金額が規定の額を超えているため請求できません。"]
[null,null,null,null,null,null,null,{"$f":"SUM(H6:H10)","v":0}]
[]
[null,null,"【請求内訳】","・物品購入",null,{"$f":"SUMIF(E$20:E$39,\"物品購入\",F$20:F$39)","v":0},"　※１０万円以内",{"$f":"--(F6>100000)","v":0}]
[null,"　入力はデータ削除を行ってから！",null,"・役務",null,{"$f":"SUMIF(E$20:E$39,\"役務\",F$20:F$39)","v":0},"　※１０万円以内",{"$f":"--(F7>100000)","v":0}]
[null,"　　 ↓↓↓",null,"・その他",null,{"$f":"SUMIF(E$20:E$39,\"その他\",F$20:F$39)","v":0}]
[null,null,null,"　（内事前承認省略",null,{"$f":"SUMIF(D$20:D$39,\"省略\",F$20:F$39)","v":0},"）※５万円以内",{"$f":"--(F9>50000)","v":0}]
[null,null,null,"　　合　　計",null,{"$f":"SUM(金額)","v":0}]
[]
[]
[null,null,{"$f":"\"請求者：\"&基本情報!D5&\"　\"&基本情報!F5&\"　\"&基本情報!H5","v":"請求者：　　"}]
[]
[]
[null,null,"立替日：",null,null,"※領収書等の日付"]
[null,null,null,"※立替日は必ず入力してください。"]
[]
[null,"№","予算科目","事前承認","契約内容","立替払金額","摘　要"]
[{"$f":"C20&COUNTIF($C$20:C20,C20)","v":"0"},1]
[{"$f":"C21&COUNTIF($C$20:C21,C21)","v":"0"},2]
[{"$f":"C22&COUNTIF($C$20:C22,C22)","v":"0"},3]
[{"$f":"C23&COUNTIF($C$20:C23,C23)","v":"0"},4]
[{"$f":"C24&COUNTIF($C$20:C24,C24)","v":"0"},5]
[{"$f":"C25&COUNTIF($C$20:C25,C25)","v":"0"},6]
[{"$f":"C26&COUNTIF($C$20:C26,C26)","v":"0"},7]
[{"$f":"C27&COUNTIF($C$20:C27,C27)","v":"0"},8]
[{"$f":"C28&COUNTIF($C$20:C28,C28)","v":"0"},9]
[{"$f":"C29&COUNTIF($C$20:C29,C29)","v":"0"},10]
[{"$f":"C30&COUNTIF($C$20:C30,C30)","v":"0"},11]
[{"$f":"C31&COUNTIF($C$20:C31,C31)","v":"0"},12]
[{"$f":"C32&COUNTIF($C$20:C32,C32)","v":"0"},13]
[{"$f":"C33&COUNTIF($C$20:C33,C33)","v":"0"},14]
[{"$f":"C34&COUNTIF($C$20:C34,C34)","v":"0"},15]
[{"$f":"C35&COUNTIF($C$20:C35,C35)","v":"0"},16]
[{"$f":"C36&COUNTIF($C$20:C36,C36)","v":"0"},17]
[{"$f":"C37&COUNTIF($C$20:C37,C37)","v":"0"},18]
[{"$f":"C38&COUNTIF($C$20:C38,C38)","v":"0"},19]
[{"$f":"C39&COUNTIF($C$20:C39,C39)","v":"0"},20]

{"sheet":"請求1","index":3,"n_rows":32,"n_cols":7,"rows_kept":32,"cut":false,"hidden":false,"merged":[[31,5,31,6],[31,1,31,2],[22,2,22,3],[23,2,23,3],[24,2,24,3],[2,5,2,6],[29,1,29,2],[30,1,30,2],[27,2,27,6],[29,5,29,6],[30,5,30,6],[15,2,15,5],[11,2,11,5],[18,2,18,3],[19,2,19,3],[20,2,20,3],[21,2,21,3]]}
["様式第２号"]
[]
[null,null,null,null,null,{"$f":"TODAY()","v":"2014-04-04"}]
[]
[null,"（宛先）公立大学法人前橋工科大学　理事長"]
[]
[null,null,null,null,"（請求者）"]
[null,null,null,null,"所　属",{"$f":"基本情報!D5","v":0}]
[null,null,null,null,"職　名",{"$f":"基本情報!F5","v":0}]
[null,null,null,null,"氏　名",{"$f":"基本情報!H5","v":0},"印"]
[]
[null,null,"立替払請求書"]
[]
[null,{"$f":"TEXT(入力シート!D16,\"[dbnum3]ggge年m月d日\")&\"付、立替払を行った経費について、添付の領収書等に基づき請求します。\"","v":"明治３３年１月０日付、立替払を行った経費について、添付の領収書等に基づき請求します。"}]
[]
[null,null,{"$f":"IF(基本情報!J14=0,\"\",\"請求額：\"&TEXT(基本情報!J14,\"[dbnum3]#,##0\")&\"円\")","v":""}]
[]
[null,null,"【請求内訳】"]
[null,null,"摘　　要",null,"事前承認","金　額"]
[null,1,{"$f":"IFERROR(VLOOKUP($C$28&$B20,入力シート!$A$20:$G$39,7,0),\"\")","v":""},null,{"$f":"IFERROR(VLOOKUP($C$28&$B20,入力シート!$A$20:$G$39,4,0),\"\")","v":""},{"$f":"IFERROR(VLOOKUP($C$28&$B20,入力シート!$A$20:$G$39,6,0),\"\")","v":""}]
[null,2,{"$f":"IFERROR(VLOOKUP($C$28&$B21,入力シート!$A$20:$G$39,7,0),\"\")","v":""},null,{"$f":"IFERROR(VLOOKUP($C$28&$B21,入力シート!$A$20:$G$39,4,0),\"\")","v":""},{"$f":"IFERROR(VLOOKUP($C$28&$B21,入力シート!$A$20:$G$39,6,0),\"\")","v":""}]
[null,3,{"$f":"IFERROR(VLOOKUP($C$28&$B22,入力シート!$A$20:$G$39,7,0),\"\")","v":""},null,{"$f":"IFERROR(VLOOKUP($C$28&$B22,入力シート!$A$20:$G$39,4,0),\"\")","v":""},{"$f":"IFERROR(VLOOKUP($C$28&$B22,入力シート!$A$20:$G$39,6,0),\"\")","v":""}]
[null,4,{"$f":"IFERROR(VLOOKUP($C$28&$B23,入力シート!$A$20:$G$39,7,0),\"\")","v":""},null,{"$f":"IFERROR(VLOOKUP($C$28&$B23,入力シート!$A$20:$G$39,4,0),\"\")","v":""},{"$f":"IFERROR(VLOOKUP($C$28&$B23,入力シート!$A$20:$G$39,6,0),\"\")","v":""}]
[null,5,{"$f":"IFERROR(VLOOKUP($C$28&$B24,入力シート!$A$20:$G$39,7,0),\"\")","v":""},null,{"$f":"IFERROR(VLOOKUP($C$28&$B24,入力シート!$A$20:$G$39,4,0),\"\")","v":""},{"$f":"IFERROR(VLOOKUP($C$28&$B24,入力シート!$A$20:$G$39,6,0),\"\")","v":""}]
[null,6,{"$f":"IFERROR(VLOOKUP($C$28&$B25,入力シート!$A$20:$G$39,7,0),\"\")","v":""},null,{"$f":"IFERROR(VLOOKUP($C$28&$B25,入力シート!$A$20:$G$39,4,0),\"\")","v":""},{"$f":"IFERROR(VLOOKUP($C$28&$B25,入力シート!$A$20:$G$39,6,0),\"\")","v":""}]
[]
[null,"○支出財源"]
[null,"予算科目",{"$f":"基本情報!I14","v":"--"}]
[null,"○振込先指定口座"]
[null,"金融機関名",null,{"$f":"基本情報!C8","v":0},"支店名",{"$f":"基本情報!G8","v":0}]
[null,"預金種別",null,{"$f":"基本情報!C9","v":0},"口座番号",{"$f":"基本情報!G9","v":0}]
[null,"口座名義",null,{"$f":"基本情報!C10","v":0},"フリガナ",{"$f":"基本情報!G10","v":0}]

{"sheet":"請求2","index":4,"n_rows":32,"n_cols":7,"rows_kept":32,"cut":false,"hidden":false,"merged":[[2,5,2,6],[11,2,11,5],[15,2,15,5],[27,2,27,6],[29,1,29,2],[29,5,29,6],[30,1,30,2],[30,5,30,6],[31,1,31,2],[31,5,31,6],[18,2,18,3],[19,2,19,3],[20,2,20,3],[21,2,21,3],[22,2,22,3],[23,2,23,3],[24,2,24,3]]}
["様式第２号"]
[]
[null,null,null,null,null,{"$f":"TODAY()","v":"2014-04-04"}]
[]
[null,"（宛先）公立大学法人前橋工科大学　理事長"]
[]
[null,null,null,null,"（請求者）"]
[null,null,null,null,"所　属",{"$f":"基本情報!D5","v":0}]
[null,null,null,null,"職　名",{"$f":"基本情報!F5","v":0}]
[null,null,null,null,"氏　名",{"$f":"基本情報!H5","v":0},"印"]
[]
[null,null,"立替払請求書"]
[]
[null,{"$f":"TEXT(入力シート!D16,\"[dbnum3]ggge年m月d日\")&\"付、立替払を行った経費について、添付の領収書等に基づき請求します。\"","v":"明治３３年１月０日付、立替払を行った経費について、添付の領収書等に基づき請求します。"}]
[]
[null,null,{"$f":"IF(基本情報!J15=0,\"\",\"請求額：\"&TEXT(基本情報!J15,\"[dbnum3]#,##0\")&\"円\")","v":""}]
[]
[null,null,"【請求内訳】"]
[null,null,"摘　　要",null,"事前承認","金　額"]
[null,1,{"$f":"IFERROR(VLOOKUP($C$28&$B20,入力シート!$A$20:$G$39,7,0),\"\")","v":""},null,{"$f":"IFERROR(VLOOKUP($C$28&$B20,入力シート!$A$20:$G$39,4,0),\"\")","v":""},{"$f":"IFERROR(VLOOKUP($C$28&$B20,入力シート!$A$20:$G$39,6,0),\"\")","v":""}]
[null,2,{"$f":"IFERROR(VLOOKUP($C$28&$B21,入力シート!$A$20:$G$39,7,0),\"\")","v":""},null,{"$f":"IFERROR(VLOOKUP($C$28&$B21,入力シート!$A$20:$G$39,4,0),\"\")","v":""},{"$f":"IFERROR(VLOOKUP($C$28&$B21,入力シート!$A$20:$G$39,6,0),\"\")","v":""}]
[null,3,{"$f":"IFERROR(VLOOKUP($C$28&$B22,入力シート!$A$20:$G$39,7,0),\"\")","v":""},null,{"$f":"IFERROR(VLOOKUP($C$28&$B22,入力シート!$A$20:$G$39,4,0),\"\")","v":""},{"$f":"IFERROR(VLOOKUP($C$28&$B22,入力シート!$A$20:$G$39,6,0),\"\")","v":""}]
[null,4,{"$f":"IFERROR(VLOOKUP($C$28&$B23,入力シート!$A$20:$G$39,7,0),\"\")","v":""},null,{"$f":"IFERROR(VLOOKUP($C$28&$B23,入力シート!$A$20:$G$39,4,0),\"\")","v":""},{"$f":"IFERROR(VLOOKUP($C$28&$B23,入力シート!$A$20:$G$39,6,0),\"\")","v":""}]
[null,5,{"$f":"IFERROR(VLOOKUP($C$28&$B24,入力シート!$A$20:$G$39,7,0),\"\")","v":""},null,{"$f":"IFERROR(VLOOKUP($C$28&$B24,入力シート!$A$20:$G$39,4,0),\"\")","v":""},{"$f":"IFERROR(VLOOKUP($C$28&$B24,入力シート!$A$20:$G$39,6,0),\"\")","v":""}]
[null,6,{"$f":"IFERROR(VLOOKUP($C$28&$B25,入力シート!$A$20:$G$39,7,0),\"\")","v":""},null,{"$f":"IFERROR(VLOOKUP($C$28&$B25,入力シート!$A$20:$G$39,4,0),\"\")","v":""},{"$f":"IFERROR(VLOOKUP($C$28&$B25,入力シート!$A$20:$G$39,6,0),\"\")","v":""}]
[]
[null,"○支出財源"]
[null,"予算科目",{"$f":"基本情報!I15","v":"--"}]
[null,"○振込先指定口座"]
[null,"金融機関名",null,{"$f":"基本情報!C8","v":0},"支店名",{"$f":"基本情報!G8","v":0}]
[null,"預金種別",null,{"$f":"基本情報!C9","v":0},"口座番号",{"$f":"基本情報!G9","v":0}]
[null,"口座名義",null,{"$f":"基本情報!C10","v":0},"フリガナ",{"$f":"基本情報!G10","v":0}]

{"sheet":"請求3","index":5,"n_rows":32,"n_cols":7,"rows_kept":32,"cut":false,"hidden":false,"merged":[[2,5,2,6],[11,2,11,5],[15,2,15,5],[27,2,27,6],[29,1,29,2],[29,5,29,6],[30,1,30,2],[30,5,30,6],[31,1,31,2],[31,5,31,6],[18,2,18,3],[19,2,19,3],[20,2,20,3],[21,2,21,3],[22,2,22,3],[23,2,23,3],[24,2,24,3]]}
["様式第２号"]
[]
[null,null,null,null,null,{"$f":"TODAY()","v":"2014-04-04"}]
[]
[null,"（宛先）公立大学法人前橋工科大学　理事長"]
[]
[null,null,null,null,"（請求者）"]
[null,null,null,null,"所　属",{"$f":"基本情報!D5","v":0}]
[null,null,null,null,"職　名",{"$f":"基本情報!F5","v":0}]
[null,null,null,null,"氏　名",{"$f":"基本情報!H5","v":0},"印"]
[]
[null,null,"立替払請求書"]
[]
[null,{"$f":"TEXT(入力シート!D16,\"[dbnum3]ggge年m月d日\")&\"付、立替払を行った経費について、添付の領収書等に基づき請求します。\"","v":"明治３３年１月０日付、立替払を行った経費について、添付の領収書等に基づき請求します。"}]
[]
[null,null,{"$f":"IF(基本情報!J16=0,\"\",\"請求額：\"&TEXT(基本情報!J16,\"[dbnum3]#,##0\")&\"円\")","v":""}]
[]
[null,null,"【請求内訳】"]
[null,null,"摘　　要",null,"事前承認","金　額"]
[null,1,{"$f":"IFERROR(VLOOKUP($C$28&$B20,入力シート!$A$20:$G$39,7,0),\"\")","v":""},null,{"$f":"IFERROR(VLOOKUP($C$28&$B20,入力シート!$A$20:$G$39,4,0),\"\")","v":""},{"$f":"IFERROR(VLOOKUP($C$28&$B20,入力シート!$A$20:$G$39,6,0),\"\")","v":""}]
[null,2,{"$f":"IFERROR(VLOOKUP($C$28&$B21,入力シート!$A$20:$G$39,7,0),\"\")","v":""},null,{"$f":"IFERROR(VLOOKUP($C$28&$B21,入力シート!$A$20:$G$39,4,0),\"\")","v":""},{"$f":"IFERROR(VLOOKUP($C$28&$B21,入力シート!$A$20:$G$39,6,0),\"\")","v":""}]
[null,3,{"$f":"IFERROR(VLOOKUP($C$28&$B22,入力シート!$A$20:$G$39,7,0),\"\")","v":""},null,{"$f":"IFERROR(VLOOKUP($C$28&$B22,入力シート!$A$20:$G$39,4,0),\"\")","v":""},{"$f":"IFERROR(VLOOKUP($C$28&$B22,入力シート!$A$20:$G$39,6,0),\"\")","v":""}]
[null,4,{"$f":"IFERROR(VLOOKUP($C$28&$B23,入力シート!$A$20:$G$39,7,0),\"\")","v":""},null,{"$f":"IFERROR(VLOOKUP($C$28&$B23,入力シート!$A$20:$G$39,4,0),\"\")","v":""},{"$f":"IFERROR(VLOOKUP($C$28&$B23,入力シート!$A$20:$G$39,6,0),\"\")","v":""}]
[null,5,{"$f":"IFERROR(VLOOKUP($C$28&$B24,入力シート!$A$20:$G$39,7,0),\"\")","v":""},null,{"$f":"IFERROR(VLOOKUP($C$28&$B24,入力シート!$A$20:$G$39,4,0),\"\")","v":""},{"$f":"IFERROR(VLOOKUP($C$28&$B24,入力シート!$A$20:$G$39,6,0),\"\")","v":""}]
[null,6,{"$f":"IFERROR(VLOOKUP($C$28&$B25,入力シート!$A$20:$G$39,7,0),\"\")","v":""},null,{"$f":"IFERROR(VLOOKUP($C$28&$B25,入力シート!$A$20:$G$39,4,0),\"\")","v":""},{"$f":"IFERROR(VLOOKUP($C$28&$B25,入力シート!$A$20:$G$39,6,0),\"\")","v":""}]
[]
[null,"○支出財源"]
[null,"予算科目",{"$f":"基本情報!I16","v":"--"}]
[null,"○振込先指定口座"]
[null,"金融機関名",null,{"$f":"基本情報!C8","v":0},"支店名",{"$f":"基本情報!G8","v":0}]
[null,"預金種別",null,{"$f":"基本情報!C9","v":0},"口座番号",{"$f":"基本情報!G9","v":0}]
[null,"口座名義",null,{"$f":"基本情報!C10","v":0},"フリガナ",{"$f":"基本情報!G10","v":0}]

{"sheet":"請求4","index":6,"n_rows":32,"n_cols":7,"rows_kept":32,"cut":false,"hidden":false,"merged":[[2,5,2,6],[11,2,11,5],[15,2,15,5],[27,2,27,6],[29,1,29,2],[29,5,29,6],[30,1,30,2],[30,5,30,6],[31,1,31,2],[31,5,31,6],[18,2,18,3],[19,2,19,3],[20,2,20,3],[21,2,21,3],[22,2,22,3],[23,2,23,3],[24,2,24,3]]}
["様式第２号"]
[]
[null,null,null,null,null,{"$f":"TODAY()","v":"2014-04-04"}]
[]
[null,"（宛先）公立大学法人前橋工科大学　理事長"]
[]
[null,null,null,null,"（請求者）"]
[null,null,null,null,"所　属",{"$f":"基本情報!D5","v":0}]
[null,null,null,null,"職　名",{"$f":"基本情報!F5","v":0}]
[null,null,null,null,"氏　名",{"$f":"基本情報!H5","v":0},"印"]
[]
[null,null,"立替払請求書"]
[]
[null,{"$f":"TEXT(入力シート!D16,\"[dbnum3]ggge年m月d日\")&\"付、立替払を行った経費について、添付の領収書等に基づき請求します。\"","v":"明治３３年１月０日付、立替払を行った経費について、添付の領収書等に基づき請求します。"}]
[]
[null,null,{"$f":"IF(基本情報!J17=0,\"\",\"請求額：\"&TEXT(基本情報!J17,\"[dbnum3]#,##0\")&\"円\")","v":""}]
[]
[null,null,"【請求内訳】"]
[null,null,"摘　　要",null,"事前承認","金　額"]
[null,1,{"$f":"IFERROR(VLOOKUP($C$28&$B20,入力シート!$A$20:$G$39,7,0),\"\")","v":""},null,{"$f":"IFERROR(VLOOKUP($C$28&$B20,入力シート!$A$20:$G$39,4,0),\"\")","v":""},{"$f":"IFERROR(VLOOKUP($C$28&$B20,入力シート!$A$20:$G$39,6,0),\"\")","v":""}]
[null,2,{"$f":"IFERROR(VLOOKUP($C$28&$B21,入力シート!$A$20:$G$39,7,0),\"\")","v":""},null,{"$f":"IFERROR(VLOOKUP($C$28&$B21,入力シート!$A$20:$G$39,4,0),\"\")","v":""},{"$f":"IFERROR(VLOOKUP($C$28&$B21,入力シート!$A$20:$G$39,6,0),\"\")","v":""}]
[null,3,{"$f":"IFERROR(VLOOKUP($C$28&$B22,入力シート!$A$20:$G$39,7,0),\"\")","v":""},null,{"$f":"IFERROR(VLOOKUP($C$28&$B22,入力シート!$A$20:$G$39,4,0),\"\")","v":""},{"$f":"IFERROR(VLOOKUP($C$28&$B22,入力シート!$A$20:$G$39,6,0),\"\")","v":""}]
[null,4,{"$f":"IFERROR(VLOOKUP($C$28&$B23,入力シート!$A$20:$G$39,7,0),\"\")","v":""},null,{"$f":"IFERROR(VLOOKUP($C$28&$B23,入力シート!$A$20:$G$39,4,0),\"\")","v":""},{"$f":"IFERROR(VLOOKUP($C$28&$B23,入力シート!$A$20:$G$39,6,0),\"\")","v":""}]
[null,5,{"$f":"IFERROR(VLOOKUP($C$28&$B24,入力シート!$A$20:$G$39,7,0),\"\")","v":""},null,{"$f":"IFERROR(VLOOKUP($C$28&$B24,入力シート!$A$20:$G$39,4,0),\"\")","v":""},{"$f":"IFERROR(VLOOKUP($C$28&$B24,入力シート!$A$20:$G$39,6,0),\"\")","v":""}]
[null,6,{"$f":"IFERROR(VLOOKUP($C$28&$B25,入力シート!$A$20:$G$39,7,0),\"\")","v":""},null,{"$f":"IFERROR(VLOOKUP($C$28&$B25,入力シート!$A$20:$G$39,4,0),\"\")","v":""},{"$f":"IFERROR(VLOOKUP($C$28&$B25,入力シート!$A$20:$G$39,6,0),\"\")","v":""}]
[]
[null,"○支出財源"]
[null,"予算科目",{"$f":"基本情報!I17","v":"--"}]
[null,"○振込先指定口座"]
[null,"金融機関名",null,{"$f":"基本情報!C8","v":0},"支店名",{"$f":"基本情報!G8","v":0}]
[null,"預金種別",null,{"$f":"基本情報!C9","v":0},"口座番号",{"$f":"基本情報!G9","v":0}]
[null,"口座名義",null,{"$f":"基本情報!C10","v":0},"フリガナ",{"$f":"基本情報!G10","v":0}]

{"sheet":"請求5","index":7,"n_rows":32,"n_cols":7,"rows_kept":32,"cut":false,"hidden":false,"merged":[[2,5,2,6],[11,2,11,5],[15,2,15,5],[27,2,27,6],[29,1,29,2],[29,5,29,6],[30,1,30,2],[30,5,30,6],[31,1,31,2],[31,5,31,6],[18,2,18,3],[19,2,19,3],[20,2,20,3],[21,2,21,3],[22,2,22,3],[23,2,23,3],[24,2,24,3]]}
["様式第２号"]
[]
[null,null,null,null,null,{"$f":"TODAY()","v":"2014-04-04"}]
[]
[null,"（宛先）公立大学法人前橋工科大学　理事長"]
[]
[null,null,null,null,"（請求者）"]
[null,null,null,null,"所　属",{"$f":"基本情報!D5","v":0}]
[null,null,null,null,"職　名",{"$f":"基本情報!F5","v":0}]
[null,null,null,null,"氏　名",{"$f":"基本情報!H5","v":0},"印"]
[]
[null,null,"立替払請求書"]
[]
[null,{"$f":"TEXT(入力シート!D16,\"[dbnum3]ggge年m月d日\")&\"付、立替払を行った経費について、添付の領収書等に基づき請求します。\"","v":"明治３３年１月０日付、立替払を行った経費について、添付の領収書等に基づき請求します。"}]
[]
[null,null,{"$f":"IF(基本情報!J18=0,\"\",\"請求額：\"&TEXT(基本情報!J18,\"[dbnum3]#,##0\")&\"円\")","v":""}]
[]
[null,null,"【請求内訳】"]
[null,null,"摘　　要",null,"事前承認","金　額"]
[null,1,{"$f":"IFERROR(VLOOKUP($C$28&$B20,入力シート!$A$20:$G$39,7,0),\"\")","v":""},null,{"$f":"IFERROR(VLOOKUP($C$28&$B20,入力シート!$A$20:$G$39,4,0),\"\")","v":""},{"$f":"IFERROR(VLOOKUP($C$28&$B20,入力シート!$A$20:$G$39,6,0),\"\")","v":""}]
[null,2,{"$f":"IFERROR(VLOOKUP($C$28&$B21,入力シート!$A$20:$G$39,7,0),\"\")","v":""},null,{"$f":"IFERROR(VLOOKUP($C$28&$B21,入力シート!$A$20:$G$39,4,0),\"\")","v":""},{"$f":"IFERROR(VLOOKUP($C$28&$B21,入力シート!$A$20:$G$39,6,0),\"\")","v":""}]
[null,3,{"$f":"IFERROR(VLOOKUP($C$28&$B22,入力シート!$A$20:$G$39,7,0),\"\")","v":""},null,{"$f":"IFERROR(VLOOKUP($C$28&$B22,入力シート!$A$20:$G$39,4,0),\"\")","v":""},{"$f":"IFERROR(VLOOKUP($C$28&$B22,入力シート!$A$20:$G$39,6,0),\"\")","v":""}]
[null,4,{"$f":"IFERROR(VLOOKUP($C$28&$B23,入力シート!$A$20:$G$39,7,0),\"\")","v":""},null,{"$f":"IFERROR(VLOOKUP($C$28&$B23,入力シート!$A$20:$G$39,4,0),\"\")","v":""},{"$f":"IFERROR(VLOOKUP($C$28&$B23,入力シート!$A$20:$G$39,6,0),\"\")","v":""}]
[null,5,{"$f":"IFERROR(VLOOKUP($C$28&$B24,入力シート!$A$20:$G$39,7,0),\"\")","v":""},null,{"$f":"IFERROR(VLOOKUP($C$28&$B24,入力シート!$A$20:$G$39,4,0),\"\")","v":""},{"$f":"IFERROR(VLOOKUP($C$28&$B24,入力シート!$A$20:$G$39,6,0),\"\")","v":""}]
[null,6,{"$f":"IFERROR(VLOOKUP($C$28&$B25,入力シート!$A$20:$G$39,7,0),\"\")","v":""},null,{"$f":"IFERROR(VLOOKUP($C$28&$B25,入力シート!$A$20:$G$39,4,0),\"\")","v":""},{"$f":"IFERROR(VLOOKUP($C$28&$B25,入力シート!$A$20:$G$39,6,0),\"\")","v":""}]
[]
[null,"○支出財源"]
[null,"予算科目",{"$f":"基本情報!I18","v":"--"}]
[null,"○振込先指定口座"]
[null,"金融機関名",null,{"$f":"基本情報!C8","v":0},"支店名",{"$f":"基本情報!G8","v":0}]
[null,"預金種別",null,{"$f":"基本情報!C9","v":0},"口座番号",{"$f":"基本情報!G9","v":0}]
[null,"口座名義",null,{"$f":"基本情報!C10","v":0},"フリガナ",{"$f":"基本情報!G10","v":0}]

{"sheet":"請求6","index":8,"n_rows":32,"n_cols":7,"rows_kept":32,"cut":false,"hidden":false,"merged":[[2,5,2,6],[11,2,11,5],[15,2,15,5],[27,2,27,6],[29,1,29,2],[29,5,29,6],[30,1,30,2],[30,5,30,6],[31,1,31,2],[31,5,31,6],[18,2,18,3],[19,2,19,3],[20,2,20,3],[21,2,21,3],[22,2,22,3],[23,2,23,3],[24,2,24,3]]}
["様式第２号"]
[]
[null,null,null,null,null,{"$f":"TODAY()","v":"2014-04-04"}]
[]
[null,"（宛先）公立大学法人前橋工科大学　理事長"]
[]
[null,null,null,null,"（請求者）"]
[null,null,null,null,"所　属",{"$f":"基本情報!D5","v":0}]
[null,null,null,null,"職　名",{"$f":"基本情報!F5","v":0}]
[null,null,null,null,"氏　名",{"$f":"基本情報!H5","v":0},"印"]
[]
[null,null,"立替払請求書"]
[]
[null,{"$f":"TEXT(入力シート!D16,\"[dbnum3]ggge年m月d日\")&\"付、立替払を行った経費について、添付の領収書等に基づき請求します。\"","v":"明治３３年１月０日付、立替払を行った経費について、添付の領収書等に基づき請求します。"}]
[]
[null,null,{"$f":"IF(基本情報!J19=0,\"\",\"請求額：\"&TEXT(基本情報!J19,\"[dbnum3]#,##0\")&\"円\")","v":""}]
[]
[null,null,"【請求内訳】"]
[null,null,"摘　　要",null,"事前承認","金　額"]
[null,1,{"$f":"IFERROR(VLOOKUP($C$28&$B20,入力シート!$A$20:$G$39,7,0),\"\")","v":""},null,{"$f":"IFERROR(VLOOKUP($C$28&$B20,入力シート!$A$20:$G$39,4,0),\"\")","v":""},{"$f":"IFERROR(VLOOKUP($C$28&$B20,入力シート!$A$20:$G$39,6,0),\"\")","v":""}]
[null,2,{"$f":"IFERROR(VLOOKUP($C$28&$B21,入力シート!$A$20:$G$39,7,0),\"\")","v":""},null,{"$f":"IFERROR(VLOOKUP($C$28&$B21,入力シート!$A$20:$G$39,4,0),\"\")","v":""},{"$f":"IFERROR(VLOOKUP($C$28&$B21,入力シート!$A$20:$G$39,6,0),\"\")","v":""}]
[null,3,{"$f":"IFERROR(VLOOKUP($C$28&$B22,入力シート!$A$20:$G$39,7,0),\"\")","v":""},null,{"$f":"IFERROR(VLOOKUP($C$28&$B22,入力シート!$A$20:$G$39,4,0),\"\")","v":""},{"$f":"IFERROR(VLOOKUP($C$28&$B22,入力シート!$A$20:$G$39,6,0),\"\")","v":""}]
[null,4,{"$f":"IFERROR(VLOOKUP($C$28&$B23,入力シート!$A$20:$G$39,7,0),\"\")","v":""},null,{"$f":"IFERROR(VLOOKUP($C$28&$B23,入力シート!$A$20:$G$39,4,0),\"\")","v":""},{"$f":"IFERROR(VLOOKUP($C$28&$B23,入力シート!$A$20:$G$39,6,0),\"\")","v":""}]
[null,5,{"$f":"IFERROR(VLOOKUP($C$28&$B24,入力シート!$A$20:$G$39,7,0),\"\")","v":""},null,{"$f":"IFERROR(VLOOKUP($C$28&$B24,入力シート!$A$20:$G$39,4,0),\"\")","v":""},{"$f":"IFERROR(VLOOKUP($C$28&$B24,入力シート!$A$20:$G$39,6,0),\"\")","v":""}]
[null,6,{"$f":"IFERROR(VLOOKUP($C$28&$B25,入力シート!$A$20:$G$39,7,0),\"\")","v":""},null,{"$f":"IFERROR(VLOOKUP($C$28&$B25,入力シート!$A$20:$G$39,4,0),\"\")","v":""},{"$f":"IFERROR(VLOOKUP($C$28&$B25,入力シート!$A$20:$G$39,6,0),\"\")","v":""}]
[]
[null,"○支出財源"]
[null,"予算科目",{"$f":"基本情報!I19","v":"--"}]
[null,"○振込先指定口座"]
[null,"金融機関名",null,{"$f":"基本情報!C8","v":0},"支店名",{"$f":"基本情報!G8","v":0}]
[null,"預金種別",null,{"$f":"基本情報!C9","v":0},"口座番号",{"$f":"基本情報!G9","v":0}]
[null,"口座名義",null,{"$f":"基本情報!C10","v":0},"フリガナ",{"$f":"基本情報!G10","v":0}]

{"sheet":"請求7","index":9,"n_rows":32,"n_cols":7,"rows_kept":32,"cut":false,"hidden":false,"merged":[[2,5,2,6],[11,2,11,5],[15,2,15,5],[27,2,27,6],[29,1,29,2],[29,5,29,6],[30,1,30,2],[30,5,30,6],[31,1,31,2],[31,5,31,6],[18,2,18,3],[19,2,19,3],[20,2,20,3],[21,2,21,3],[22,2,22,3],[23,2,23,3],[24,2,24,3]]}
["様式第２号"]
[]
[null,null,null,null,null,{"$f":"TODAY()","v":"2014-04-04"}]
[]
[null,"（宛先）公立大学法人前橋工科大学　理事長"]
[]
[null,null,null,null,"（請求者）"]
[null,null,null,null,"所　属",{"$f":"基本情報!D5","v":0}]
[null,null,null,null,"職　名",{"$f":"基本情報!F5","v":0}]
[null,null,null,null,"氏　名",{"$f":"基本情報!H5","v":0},"印"]
[]
[null,null,"立替払請求書"]
[]
[null,{"$f":"TEXT(入力シート!D16,\"[dbnum3]ggge年m月d日\")&\"付、立替払を行った経費について、添付の領収書等に基づき請求します。\"","v":"明治３３年１月０日付、立替払を行った経費について、添付の領収書等に基づき請求します。"}]
[]
[null,null,{"$f":"IF(基本情報!J20=0,\"\",\"請求額：\"&TEXT(基本情報!J20,\"[dbnum3]#,##0\")&\"円\")","v":""}]
[]
[null,null,"【請求内訳】"]
[null,null,"摘　　要",null,"事前承認","金　額"]
[null,1,{"$f":"IFERROR(VLOOKUP($C$28&$B20,入力シート!$A$20:$G$39,7,0),\"\")","v":""},null,{"$f":"IFERROR(VLOOKUP($C$28&$B20,入力シート!$A$20:$G$39,4,0),\"\")","v":""},{"$f":"IFERROR(VLOOKUP($C$28&$B20,入力シート!$A$20:$G$39,6,0),\"\")","v":""}]
[null,2,{"$f":"IFERROR(VLOOKUP($C$28&$B21,入力シート!$A$20:$G$39,7,0),\"\")","v":""},null,{"$f":"IFERROR(VLOOKUP($C$28&$B21,入力シート!$A$20:$G$39,4,0),\"\")","v":""},{"$f":"IFERROR(VLOOKUP($C$28&$B21,入力シート!$A$20:$G$39,6,0),\"\")","v":""}]
[null,3,{"$f":"IFERROR(VLOOKUP($C$28&$B22,入力シート!$A$20:$G$39,7,0),\"\")","v":""},null,{"$f":"IFERROR(VLOOKUP($C$28&$B22,入力シート!$A$20:$G$39,4,0),\"\")","v":""},{"$f":"IFERROR(VLOOKUP($C$28&$B22,入力シート!$A$20:$G$39,6,0),\"\")","v":""}]
[null,4,{"$f":"IFERROR(VLOOKUP($C$28&$B23,入力シート!$A$20:$G$39,7,0),\"\")","v":""},null,{"$f":"IFERROR(VLOOKUP($C$28&$B23,入力シート!$A$20:$G$39,4,0),\"\")","v":""},{"$f":"IFERROR(VLOOKUP($C$28&$B23,入力シート!$A$20:$G$39,6,0),\"\")","v":""}]
[null,5,{"$f":"IFERROR(VLOOKUP($C$28&$B24,入力シート!$A$20:$G$39,7,0),\"\")","v":""},null,{"$f":"IFERROR(VLOOKUP($C$28&$B24,入力シート!$A$20:$G$39,4,0),\"\")","v":""},{"$f":"IFERROR(VLOOKUP($C$28&$B24,入力シート!$A$20:$G$39,6,0),\"\")","v":""}]
[null,6,{"$f":"IFERROR(VLOOKUP($C$28&$B25,入力シート!$A$20:$G$39,7,0),\"\")","v":""},null,{"$f":"IFERROR(VLOOKUP($C$28&$B25,入力シート!$A$20:$G$39,4,0),\"\")","v":""},{"$f":"IFERROR(VLOOKUP($C$28&$B25,入力シート!$A$20:$G$39,6,0),\"\")","v":""}]
[]
[null,"○支出財源"]
[null,"予算科目",{"$f":"基本情報!I20","v":"--"}]
[null,"○振込先指定口座"]
[null,"金融機関名",null,{"$f":"基本情報!C8","v":0},"支店名",{"$f":"基本情報!G8","v":0}]
[null,"預金種別",null,{"$f":"基本情報!C9","v":0},"口座番号",{"$f":"基本情報!G9","v":0}]
[null,"口座名義",null,{"$f":"基本情報!C10","v":0},"フリガナ",{"$f":"基本情報!G10","v":0}]

{"sheet":"請求8","index":10,"n_rows":32,"n_cols":7,"rows_kept":32,"cut":false,"hidden":false,"merged":[[2,5,2,6],[11,2,11,5],[15,2,15,5],[27,2,27,6],[29,1,29,2],[29,5,29,6],[30,1,30,2],[30,5,30,6],[31,1,31,2],[31,5,31,6],[18,2,18,3],[19,2,19,3],[20,2,20,3],[21,2,21,3],[22,2,22,3],[23,2,23,3],[24,2,24,3]]}
["様式第２号"]
[]
[null,null,null,null,null,{"$f":"TODAY()","v":"2014-04-04"}]
[]
[null,"（宛先）公立大学法人前橋工科大学　理事長"]
[]
[null,null,null,null,"（請求者）"]
[null,null,null,null,"所　属",{"$f":"基本情報!D5","v":0}]
[null,null,null,null,"職　名",{"$f":"基本情報!F5","v":0}]
[null,null,null,null,"氏　名",{"$f":"基本情報!H5","v":0},"印"]
[]
[null,null,"立替払請求書"]
[]
[null,{"$f":"TEXT(入力シート!D16,\"[dbnum3]ggge年m月d日\")&\"付、立替払を行った経費について、添付の領収書等に基づき請求します。\"","v":"明治３３年１月０日付、立替払を行った経費について、添付の領収書等に基づき請求します。"}]
[]
[null,null,{"$f":"IF(基本情報!J21=0,\"\",\"請求額：\"&TEXT(基本情報!J21,\"[dbnum3]#,##0\")&\"円\")","v":""}]
[]
[null,null,"【請求内訳】"]
[null,null,"摘　　要",null,"事前承認","金　額"]
[null,1,{"$f":"IFERROR(VLOOKUP($C$28&$B20,入力シート!$A$20:$G$39,7,0),\"\")","v":""},null,{"$f":"IFERROR(VLOOKUP($C$28&$B20,入力シート!$A$20:$G$39,4,0),\"\")","v":""},{"$f":"IFERROR(VLOOKUP($C$28&$B20,入力シート!$A$20:$G$39,6,0),\"\")","v":""}]
[null,2,{"$f":"IFERROR(VLOOKUP($C$28&$B21,入力シート!$A$20:$G$39,7,0),\"\")","v":""},null,{"$f":"IFERROR(VLOOKUP($C$28&$B21,入力シート!$A$20:$G$39,4,0),\"\")","v":""},{"$f":"IFERROR(VLOOKUP($C$28&$B21,入力シート!$A$20:$G$39,6,0),\"\")","v":""}]
[null,3,{"$f":"IFERROR(VLOOKUP($C$28&$B22,入力シート!$A$20:$G$39,7,0),\"\")","v":""},null,{"$f":"IFERROR(VLOOKUP($C$28&$B22,入力シート!$A$20:$G$39,4,0),\"\")","v":""},{"$f":"IFERROR(VLOOKUP($C$28&$B22,入力シート!$A$20:$G$39,6,0),\"\")","v":""}]
[null,4,{"$f":"IFERROR(VLOOKUP($C$28&$B23,入力シート!$A$20:$G$39,7,0),\"\")","v":""},null,{"$f":"IFERROR(VLOOKUP($C$28&$B23,入力シート!$A$20:$G$39,4,0),\"\")","v":""},{"$f":"IFERROR(VLOOKUP($C$28&$B23,入力シート!$A$20:$G$39,6,0),\"\")","v":""}]
[null,5,{"$f":"IFERROR(VLOOKUP($C$28&$B24,入力シート!$A$20:$G$39,7,0),\"\")","v":""},null,{"$f":"IFERROR(VLOOKUP($C$28&$B24,入力シート!$A$20:$G$39,4,0),\"\")","v":""},{"$f":"IFERROR(VLOOKUP($C$28&$B24,入力シート!$A$20:$G$39,6,0),\"\")","v":""}]
[null,6,{"$f":"IFERROR(VLOOKUP($C$28&$B25,入力シート!$A$20:$G$39,7,0),\"\")","v":""},null,{"$f":"IFERROR(VLOOKUP($C$28&$B25,入力シート!$A$20:$G$39,4,0),\"\")","v":""},{"$f":"IFERROR(VLOOKUP($C$28&$B25,入力シート!$A$20:$G$39,6,0),\"\")","v":""}]
[]
[null,"○支出財源"]
[null,"予算科目",{"$f":"基本情報!I21","v":"--"}]
[null,"○振込先指定口座"]
[null,"金融機関名",null,{"$f":"基本情報!C8","v":0},"支店名",{"$f":"基本情報!G8","v":0}]
[null,"預金種別",null,{"$f":"基本情報!C9","v":0},"口座番号",{"$f":"基本情報!G9","v":0}]
[null,"口座名義",null,{"$f":"基本情報!C10","v":0},"フリガナ",{"$f":"基本情報!G10","v":0}]

{"sheet":"請求9","index":11,"n_rows":32,"n_cols":7,"rows_kept":32,"cut":false,"hidden":false,"merged":[[2,5,2,6],[11,2,11,5],[15,2,15,5],[27,2,27,6],[29,1,29,2],[29,5,29,6],[30,1,30,2],[30,5,30,6],[31,1,31,2],[31,5,31,6],[18,2,18,3],[19,2,19,3],[20,2,20,3],[21,2,21,3],[22,2,22,3],[23,2,23,3],[24,2,24,3]]}
["様式第２号"]
[]
[null,null,null,null,null,{"$f":"TODAY()","v":"2014-04-04"}]
[]
[null,"（宛先）公立大学法人前橋工科大学　理事長"]
[]
[null,null,null,null,"（請求者）"]
[null,null,null,null,"所　属",{"$f":"基本情報!D5","v":0}]
[null,null,null,null,"職　名",{"$f":"基本情報!F5","v":0}]
[null,null,null,null,"氏　名",{"$f":"基本情報!H5","v":0},"印"]
[]
[null,null,"立替払請求書"]
[]
[null,{"$f":"TEXT(入力シート!D16,\"[dbnum3]ggge年m月d日\")&\"付、立替払を行った経費について、添付の領収書等に基づき請求します。\"","v":"明治３３年１月０日付、立替払を行った経費について、添付の領収書等に基づき請求します。"}]
[]
[null,null,{"$f":"IF(基本情報!J22=0,\"\",\"請求額：\"&TEXT(基本情報!J22,\"[dbnum3]#,##0\")&\"円\")","v":""}]
[]
[null,null,"【請求内訳】"]
[null,null,"摘　　要",null,"事前承認","金　額"]
[null,1,{"$f":"IFERROR(VLOOKUP($C$28&$B20,入力シート!$A$20:$G$39,7,0),\"\")","v":""},null,{"$f":"IFERROR(VLOOKUP($C$28&$B20,入力シート!$A$20:$G$39,4,0),\"\")","v":""},{"$f":"IFERROR(VLOOKUP($C$28&$B20,入力シート!$A$20:$G$39,6,0),\"\")","v":""}]
[null,2,{"$f":"IFERROR(VLOOKUP($C$28&$B21,入力シート!$A$20:$G$39,7,0),\"\")","v":""},null,{"$f":"IFERROR(VLOOKUP($C$28&$B21,入力シート!$A$20:$G$39,4,0),\"\")","v":""},{"$f":"IFERROR(VLOOKUP($C$28&$B21,入力シート!$A$20:$G$39,6,0),\"\")","v":""}]
[null,3,{"$f":"IFERROR(VLOOKUP($C$28&$B22,入力シート!$A$20:$G$39,7,0),\"\")","v":""},null,{"$f":"IFERROR(VLOOKUP($C$28&$B22,入力シート!$A$20:$G$39,4,0),\"\")","v":""},{"$f":"IFERROR(VLOOKUP($C$28&$B22,入力シート!$A$20:$G$39,6,0),\"\")","v":""}]
[null,4,{"$f":"IFERROR(VLOOKUP($C$28&$B23,入力シート!$A$20:$G$39,7,0),\"\")","v":""},null,{"$f":"IFERROR(VLOOKUP($C$28&$B23,入力シート!$A$20:$G$39,4,0),\"\")","v":""},{"$f":"IFERROR(VLOOKUP($C$28&$B23,入力シート!$A$20:$G$39,6,0),\"\")","v":""}]
[null,5,{"$f":"IFERROR(VLOOKUP($C$28&$B24,入力シート!$A$20:$G$39,7,0),\"\")","v":""},null,{"$f":"IFERROR(VLOOKUP($C$28&$B24,入力シート!$A$20:$G$39,4,0),\"\")","v":""},{"$f":"IFERROR(VLOOKUP($C$28&$B24,入力シート!$A$20:$G$39,6,0),\"\")","v":""}]
[null,6,{"$f":"IFERROR(VLOOKUP($C$28&$B25,入力シート!$A$20:$G$39,7,0),\"\")","v":""},null,{"$f":"IFERROR(VLOOKUP($C$28&$B25,入力シート!$A$20:$G$39,4,0),\"\")","v":""},{"$f":"IFERROR(VLOOKUP($C$28&$B25,入力シート!$A$20:$G$39,6,0),\"\")","v":""}]
[]
[null,"○支出財源"]
[null,"予算科目",{"$f":"基本情報!I22","v":"--"}]
[null,"○振込先指定口座"]
[null,"金融機関名",null,{"$f":"基本情報!C8","v":0},"支店名",{"$f":"基本情報!G8","v":0}]
[null,"預金種別",null,{"$f":"基本情報!C9","v":0},"口座番号",{"$f":"基本情報!G9","v":0}]
[null,"口座名義",null,{"$f":"基本情報!C10","v":0},"フリガナ",{"$f":"基本情報!G10","v":0}]

{"sheet":"請求10","index":12,"n_rows":32,"n_cols":7,"rows_kept":32,"cut":false,"hidden":false,"merged":[[2,5,2,6],[11,2,11,5],[15,2,15,5],[27,2,27,6],[29,1,29,2],[29,5,29,6],[30,1,30,2],[30,5,30,6],[31,1,31,2],[31,5,31,6],[18,2,18,3],[19,2,19,3],[20,2,20,3],[21,2,21,3],[22,2,22,3],[23,2,23,3],[24,2,24,3]]}
["様式第２号"]
[]
[null,null,null,null,null,{"$f":"TODAY()","v":"2014-04-04"}]
[]
[null,"（宛先）公立大学法人前橋工科大学　理事長"]
[]
[null,null,null,null,"（請求者）"]
[null,null,null,null,"所　属",{"$f":"基本情報!D5","v":0}]
[null,null,null,null,"職　名",{"$f":"基本情報!F5","v":0}]
[null,null,null,null,"氏　名",{"$f":"基本情報!H5","v":0},"印"]
[]
[null,null,"立替払請求書"]
[]
[null,{"$f":"TEXT(入力シート!D16,\"[dbnum3]ggge年m月d日\")&\"付、立替払を行った経費について、添付の領収書等に基づき請求します。\"","v":"明治３３年１月０日付、立替払を行った経費について、添付の領収書等に基づき請求します。"}]
[]
[null,null,{"$f":"IF(基本情報!J23=0,\"\",\"請求額：\"&TEXT(基本情報!J23,\"[dbnum3]#,##0\")&\"円\")","v":""}]
[]
[null,null,"【請求内訳】"]
[null,null,"摘　　要",null,"事前承認","金　額"]
[null,1,{"$f":"IFERROR(VLOOKUP($C$28&$B20,入力シート!$A$20:$G$39,7,0),\"\")","v":""},null,{"$f":"IFERROR(VLOOKUP($C$28&$B20,入力シート!$A$20:$G$39,4,0),\"\")","v":""},{"$f":"IFERROR(VLOOKUP($C$28&$B20,入力シート!$A$20:$G$39,6,0),\"\")","v":""}]
[null,2,{"$f":"IFERROR(VLOOKUP($C$28&$B21,入力シート!$A$20:$G$39,7,0),\"\")","v":""},null,{"$f":"IFERROR(VLOOKUP($C$28&$B21,入力シート!$A$20:$G$39,4,0),\"\")","v":""},{"$f":"IFERROR(VLOOKUP($C$28&$B21,入力シート!$A$20:$G$39,6,0),\"\")","v":""}]
[null,3,{"$f":"IFERROR(VLOOKUP($C$28&$B22,入力シート!$A$20:$G$39,7,0),\"\")","v":""},null,{"$f":"IFERROR(VLOOKUP($C$28&$B22,入力シート!$A$20:$G$39,4,0),\"\")","v":""},{"$f":"IFERROR(VLOOKUP($C$28&$B22,入力シート!$A$20:$G$39,6,0),\"\")","v":""}]
[null,4,{"$f":"IFERROR(VLOOKUP($C$28&$B23,入力シート!$A$20:$G$39,7,0),\"\")","v":""},null,{"$f":"IFERROR(VLOOKUP($C$28&$B23,入力シート!$A$20:$G$39,4,0),\"\")","v":""},{"$f":"IFERROR(VLOOKUP($C$28&$B23,入力シート!$A$20:$G$39,6,0),\"\")","v":""}]
[null,5,{"$f":"IFERROR(VLOOKUP($C$28&$B24,入力シート!$A$20:$G$39,7,0),\"\")","v":""},null,{"$f":"IFERROR(VLOOKUP($C$28&$B24,入力シート!$A$20:$G$39,4,0),\"\")","v":""},{"$f":"IFERROR(VLOOKUP($C$28&$B24,入力シート!$A$20:$G$39,6,0),\"\")","v":""}]
[null,6,{"$f":"IFERROR(VLOOKUP($C$28&$B25,入力シート!$A$20:$G$39,7,0),\"\")","v":""},null,{"$f":"IFERROR(VLOOKUP($C$28&$B25,入力シート!$A$20:$G$39,4,0),\"\")","v":""},{"$f":"IFERROR(VLOOKUP($C$28&$B25,入力シート!$A$20:$G$39,6,0),\"\")","v":""}]
[]
[null,"○支出財源"]
[null,"予算科目",{"$f":"基本情報!I23","v":"--"}]
[null,"○振込先指定口座"]
[null,"金融機関名",null,{"$f":"基本情報!C8","v":0},"支店名",{"$f":"基本情報!G8","v":0}]
[null,"預金種別",null,{"$f":"基本情報!C9","v":0},"口座番号",{"$f":"基本情報!G9","v":0}]
[null,"口座名義",null,{"$f":"基本情報!C10","v":0},"フリガナ",{"$f":"基本情報!G10","v":0}]

{"sheet":"請求11","index":13,"n_rows":32,"n_cols":7,"rows_kept":32,"cut":false,"hidden":false,"merged":[[2,5,2,6],[11,2,11,5],[15,2,15,5],[27,2,27,6],[29,1,29,2],[29,5,29,6],[30,1,30,2],[30,5,30,6],[31,1,31,2],[31,5,31,6],[18,2,18,3],[19,2,19,3],[20,2,20,3],[21,2,21,3],[22,2,22,3],[23,2,23,3],[24,2,24,3]]}
["様式第２号"]
[]
[null,null,null,null,null,{"$f":"TODAY()","v":"2014-04-04"}]
[]
[null,"（宛先）公立大学法人前橋工科大学　理事長"]
[]
[null,null,null,null,"（請求者）"]
[null,null,null,null,"所　属",{"$f":"基本情報!D5","v":0}]
[null,null,null,null,"職　名",{"$f":"基本情報!F5","v":0}]
[null,null,null,null,"氏　名",{"$f":"基本情報!H5","v":0},"印"]
[]
[null,null,"立替払請求書"]
[]
[null,{"$f":"TEXT(入力シート!D16,\"[dbnum3]ggge年m月d日\")&\"付、立替払を行った経費について、添付の領収書等に基づき請求します。\"","v":"明治３３年１月０日付、立替払を行った経費について、添付の領収書等に基づき請求します。"}]
[]
[null,null,{"$f":"IF(基本情報!J24=0,\"\",\"請求額：\"&TEXT(基本情報!J24,\"[dbnum3]#,##0\")&\"円\")","v":""}]
[]
[null,null,"【請求内訳】"]
[null,null,"摘　　要",null,"事前承認","金　額"]
[null,1,{"$f":"IFERROR(VLOOKUP($C$28&$B20,入力シート!$A$20:$G$39,7,0),\"\")","v":""},null,{"$f":"IFERROR(VLOOKUP($C$28&$B20,入力シート!$A$20:$G$39,4,0),\"\")","v":""},{"$f":"IFERROR(VLOOKUP($C$28&$B20,入力シート!$A$20:$G$39,6,0),\"\")","v":""}]
[null,2,{"$f":"IFERROR(VLOOKUP($C$28&$B21,入力シート!$A$20:$G$39,7,0),\"\")","v":""},null,{"$f":"IFERROR(VLOOKUP($C$28&$B21,入力シート!$A$20:$G$39,4,0),\"\")","v":""},{"$f":"IFERROR(VLOOKUP($C$28&$B21,入力シート!$A$20:$G$39,6,0),\"\")","v":""}]
[null,3,{"$f":"IFERROR(VLOOKUP($C$28&$B22,入力シート!$A$20:$G$39,7,0),\"\")","v":""},null,{"$f":"IFERROR(VLOOKUP($C$28&$B22,入力シート!$A$20:$G$39,4,0),\"\")","v":""},{"$f":"IFERROR(VLOOKUP($C$28&$B22,入力シート!$A$20:$G$39,6,0),\"\")","v":""}]
[null,4,{"$f":"IFERROR(VLOOKUP($C$28&$B23,入力シート!$A$20:$G$39,7,0),\"\")","v":""},null,{"$f":"IFERROR(VLOOKUP($C$28&$B23,入力シート!$A$20:$G$39,4,0),\"\")","v":""},{"$f":"IFERROR(VLOOKUP($C$28&$B23,入力シート!$A$20:$G$39,6,0),\"\")","v":""}]
[null,5,{"$f":"IFERROR(VLOOKUP($C$28&$B24,入力シート!$A$20:$G$39,7,0),\"\")","v":""},null,{"$f":"IFERROR(VLOOKUP($C$28&$B24,入力シート!$A$20:$G$39,4,0),\"\")","v":""},{"$f":"IFERROR(VLOOKUP($C$28&$B24,入力シート!$A$20:$G$39,6,0),\"\")","v":""}]
[null,6,{"$f":"IFERROR(VLOOKUP($C$28&$B25,入力シート!$A$20:$G$39,7,0),\"\")","v":""},null,{"$f":"IFERROR(VLOOKUP($C$28&$B25,入力シート!$A$20:$G$39,4,0),\"\")","v":""},{"$f":"IFERROR(VLOOKUP($C$28&$B25,入力シート!$A$20:$G$39,6,0),\"\")","v":""}]
[]
[null,"○支出財源"]
[null,"予算科目",{"$f":"基本情報!I24","v":"--"}]
[null,"○振込先指定口座"]
[null,"金融機関名",null,{"$f":"基本情報!C8","v":0},"支店名",{"$f":"基本情報!G8","v":0}]
[null,"預金種別",null,{"$f":"基本情報!C9","v":0},"口座番号",{"$f":"基本情報!G9","v":0}]
[null,"口座名義",null,{"$f":"基本情報!C10","v":0},"フリガナ",{"$f":"基本情報!G10","v":0}]

{"sheet":"請求12","index":14,"n_rows":32,"n_cols":7,"rows_kept":32,"cut":false,"hidden":false,"merged":[[2,5,2,6],[11,2,11,5],[15,2,15,5],[27,2,27,6],[29,1,29,2],[29,5,29,6],[30,1,30,2],[30,5,30,6],[31,1,31,2],[31,5,31,6],[18,2,18,3],[19,2,19,3],[20,2,20,3],[21,2,21,3],[22,2,22,3],[23,2,23,3],[24,2,24,3]]}
["様式第２号"]
[]
[null,null,null,null,null,{"$f":"TODAY()","v":"2014-04-04"}]
[]
[null,"（宛先）公立大学法人前橋工科大学　理事長"]
[]
[null,null,null,null,"（請求者）"]
[null,null,null,null,"所　属",{"$f":"基本情報!D5","v":0}]
[null,null,null,null,"職　名",{"$f":"基本情報!F5","v":0}]
[null,null,null,null,"氏　名",{"$f":"基本情報!H5","v":0},"印"]
[]
[null,null,"立替払請求書"]
[]
[null,{"$f":"TEXT(入力シート!D16,\"[dbnum3]ggge年m月d日\")&\"付、立替払を行った経費について、添付の領収書等に基づき請求します。\"","v":"明治３３年１月０日付、立替払を行った経費について、添付の領収書等に基づき請求します。"}]
[]
[null,null,{"$f":"IF(基本情報!J25=0,\"\",\"請求額：\"&TEXT(基本情報!J25,\"[dbnum3]#,##0\")&\"円\")","v":""}]
[]
[null,null,"【請求内訳】"]
[null,null,"摘　　要",null,"事前承認","金　額"]
[null,1,{"$f":"IFERROR(VLOOKUP($C$28&$B20,入力シート!$A$20:$G$39,7,0),\"\")","v":""},null,{"$f":"IFERROR(VLOOKUP($C$28&$B20,入力シート!$A$20:$G$39,4,0),\"\")","v":""},{"$f":"IFERROR(VLOOKUP($C$28&$B20,入力シート!$A$20:$G$39,6,0),\"\")","v":""}]
[null,2,{"$f":"IFERROR(VLOOKUP($C$28&$B21,入力シート!$A$20:$G$39,7,0),\"\")","v":""},null,{"$f":"IFERROR(VLOOKUP($C$28&$B21,入力シート!$A$20:$G$39,4,0),\"\")","v":""},{"$f":"IFERROR(VLOOKUP($C$28&$B21,入力シート!$A$20:$G$39,6,0),\"\")","v":""}]
[null,3,{"$f":"IFERROR(VLOOKUP($C$28&$B22,入力シート!$A$20:$G$39,7,0),\"\")","v":""},null,{"$f":"IFERROR(VLOOKUP($C$28&$B22,入力シート!$A$20:$G$39,4,0),\"\")","v":""},{"$f":"IFERROR(VLOOKUP($C$28&$B22,入力シート!$A$20:$G$39,6,0),\"\")","v":""}]
[null,4,{"$f":"IFERROR(VLOOKUP($C$28&$B23,入力シート!$A$20:$G$39,7,0),\"\")","v":""},null,{"$f":"IFERROR(VLOOKUP($C$28&$B23,入力シート!$A$20:$G$39,4,0),\"\")","v":""},{"$f":"IFERROR(VLOOKUP($C$28&$B23,入力シート!$A$20:$G$39,6,0),\"\")","v":""}]
[null,5,{"$f":"IFERROR(VLOOKUP($C$28&$B24,入力シート!$A$20:$G$39,7,0),\"\")","v":""},null,{"$f":"IFERROR(VLOOKUP($C$28&$B24,入力シート!$A$20:$G$39,4,0),\"\")","v":""},{"$f":"IFERROR(VLOOKUP($C$28&$B24,入力シート!$A$20:$G$39,6,0),\"\")","v":""}]
[null,6,{"$f":"IFERROR(VLOOKUP($C$28&$B25,入力シート!$A$20:$G$39,7,0),\"\")","v":""},null,{"$f":"IFERROR(VLOOKUP($C$28&$B25,入力シート!$A$20:$G$39,4,0),\"\")","v":""},{"$f":"IFERROR(VLOOKUP($C$28&$B25,入力シート!$A$20:$G$39,6,0),\"\")","v":""}]
[]
[null,"○支出財源"]
[null,"予算科目",{"$f":"基本情報!I25","v":"--"}]
[null,"○振込先指定口座"]
[null,"金融機関名",null,{"$f":"基本情報!C8","v":0},"支店名",{"$f":"基本情報!G8","v":0}]
[null,"預金種別",null,{"$f":"基本情報!C9","v":0},"口座番号",{"$f":"基本情報!G9","v":0}]
[null,"口座名義",null,{"$f":"基本情報!C10","v":0},"フリガナ",{"$f":"基本情報!G10","v":0}]

{"sheet":"請求13","index":15,"n_rows":32,"n_cols":7,"rows_kept":32,"cut":false,"hidden":false,"merged":[[2,5,2,6],[11,2,11,5],[15,2,15,5],[27,2,27,6],[29,1,29,2],[29,5,29,6],[30,1,30,2],[30,5,30,6],[31,1,31,2],[31,5,31,6],[18,2,18,3],[19,2,19,3],[20,2,20,3],[21,2,21,3],[22,2,22,3],[23,2,23,3],[24,2,24,3]]}
["様式第２号"]
[]
[null,null,null,null,null,{"$f":"TODAY()","v":"2014-04-04"}]
[]
[null,"（宛先）公立大学法人前橋工科大学　理事長"]
[]
[null,null,null,null,"（請求者）"]
[null,null,null,null,"所　属",{"$f":"基本情報!D5","v":0}]
[null,null,null,null,"職　名",{"$f":"基本情報!F5","v":0}]
[null,null,null,null,"氏　名",{"$f":"基本情報!H5","v":0},"印"]
[]
[null,null,"立替払請求書"]
[]
[null,{"$f":"TEXT(入力シート!D16,\"[dbnum3]ggge年m月d日\")&\"付、立替払を行った経費について、添付の領収書等に基づき請求します。\"","v":"明治３３年１月０日付、立替払を行った経費について、添付の領収書等に基づき請求します。"}]
[]
[null,null,{"$f":"IF(基本情報!J26=0,\"\",\"請求額：\"&TEXT(基本情報!J26,\"[dbnum3]#,##0\")&\"円\")","v":""}]
[]
[null,null,"【請求内訳】"]
[null,null,"摘　　要",null,"事前承認","金　額"]
[null,1,{"$f":"IFERROR(VLOOKUP($C$28&$B20,入力シート!$A$20:$G$39,7,0),\"\")","v":""},null,{"$f":"IFERROR(VLOOKUP($C$28&$B20,入力シート!$A$20:$G$39,4,0),\"\")","v":""},{"$f":"IFERROR(VLOOKUP($C$28&$B20,入力シート!$A$20:$G$39,6,0),\"\")","v":""}]
[null,2,{"$f":"IFERROR(VLOOKUP($C$28&$B21,入力シート!$A$20:$G$39,7,0),\"\")","v":""},null,{"$f":"IFERROR(VLOOKUP($C$28&$B21,入力シート!$A$20:$G$39,4,0),\"\")","v":""},{"$f":"IFERROR(VLOOKUP($C$28&$B21,入力シート!$A$20:$G$39,6,0),\"\")","v":""}]
[null,3,{"$f":"IFERROR(VLOOKUP($C$28&$B22,入力シート!$A$20:$G$39,7,0),\"\")","v":""},null,{"$f":"IFERROR(VLOOKUP($C$28&$B22,入力シート!$A$20:$G$39,4,0),\"\")","v":""},{"$f":"IFERROR(VLOOKUP($C$28&$B22,入力シート!$A$20:$G$39,6,0),\"\")","v":""}]
[null,4,{"$f":"IFERROR(VLOOKUP($C$28&$B23,入力シート!$A$20:$G$39,7,0),\"\")","v":""},null,{"$f":"IFERROR(VLOOKUP($C$28&$B23,入力シート!$A$20:$G$39,4,0),\"\")","v":""},{"$f":"IFERROR(VLOOKUP($C$28&$B23,入力シート!$A$20:$G$39,6,0),\"\")","v":""}]
[null,5,{"$f":"IFERROR(VLOOKUP($C$28&$B24,入力シート!$A$20:$G$39,7,0),\"\")","v":""},null,{"$f":"IFERROR(VLOOKUP($C$28&$B24,入力シート!$A$20:$G$39,4,0),\"\")","v":""},{"$f":"IFERROR(VLOOKUP($C$28&$B24,入力シート!$A$20:$G$39,6,0),\"\")","v":""}]
[null,6,{"$f":"IFERROR(VLOOKUP($C$28&$B25,入力シート!$A$20:$G$39,7,0),\"\")","v":""},null,{"$f":"IFERROR(VLOOKUP($C$28&$B25,入力シート!$A$20:$G$39,4,0),\"\")","v":""},{"$f":"IFERROR(VLOOKUP($C$28&$B25,入力シート!$A$20:$G$39,6,0),\"\")","v":""}]
[]
[null,"○支出財源"]
[null,"予算科目",{"$f":"基本情報!I26","v":"--"}]
[null,"○振込先指定口座"]
[null,"金融機関名",null,{"$f":"基本情報!C8","v":0},"支店名",{"$f":"基本情報!G8","v":0}]
[null,"預金種別",null,{"$f":"基本情報!C9","v":0},"口座番号",{"$f":"基本情報!G9","v":0}]
[null,"口座名義",null,{"$f":"基本情報!C10","v":0},"フリガナ",{"$f":"基本情報!G10","v":0}]

{"sheet":"請求14","index":16,"n_rows":32,"n_cols":7,"rows_kept":32,"cut":false,"hidden":false,"merged":[[2,5,2,6],[11,2,11,5],[15,2,15,5],[27,2,27,6],[29,1,29,2],[29,5,29,6],[30,1,30,2],[30,5,30,6],[31,1,31,2],[31,5,31,6],[18,2,18,3],[19,2,19,3],[20,2,20,3],[21,2,21,3],[22,2,22,3],[23,2,23,3],[24,2,24,3]]}
["様式第２号"]
[]
[null,null,null,null,null,{"$f":"TODAY()","v":"2014-04-04"}]
[]
[null,"（宛先）公立大学法人前橋工科大学　理事長"]
[]
[null,null,null,null,"（請求者）"]
[null,null,null,null,"所　属",{"$f":"基本情報!D5","v":0}]
[null,null,null,null,"職　名",{"$f":"基本情報!F5","v":0}]
[null,null,null,null,"氏　名",{"$f":"基本情報!H5","v":0},"印"]
[]
[null,null,"立替払請求書"]
[]
[null,{"$f":"TEXT(入力シート!D16,\"[dbnum3]ggge年m月d日\")&\"付、立替払を行った経費について、添付の領収書等に基づき請求します。\"","v":"明治３３年１月０日付、立替払を行った経費について、添付の領収書等に基づき請求します。"}]
[]
[null,null,{"$f":"IF(基本情報!J27=0,\"\",\"請求額：\"&TEXT(基本情報!J27,\"[dbnum3]#,##0\")&\"円\")","v":""}]
[]
[null,null,"【請求内訳】"]
[null,null,"摘　　要",null,"事前承認","金　額"]
[null,1,{"$f":"IFERROR(VLOOKUP($C$28&$B20,入力シート!$A$20:$G$39,7,0),\"\")","v":""},null,{"$f":"IFERROR(VLOOKUP($C$28&$B20,入力シート!$A$20:$G$39,4,0),\"\")","v":""},{"$f":"IFERROR(VLOOKUP($C$28&$B20,入力シート!$A$20:$G$39,6,0),\"\")","v":""}]
[null,2,{"$f":"IFERROR(VLOOKUP($C$28&$B21,入力シート!$A$20:$G$39,7,0),\"\")","v":""},null,{"$f":"IFERROR(VLOOKUP($C$28&$B21,入力シート!$A$20:$G$39,4,0),\"\")","v":""},{"$f":"IFERROR(VLOOKUP($C$28&$B21,入力シート!$A$20:$G$39,6,0),\"\")","v":""}]
[null,3,{"$f":"IFERROR(VLOOKUP($C$28&$B22,入力シート!$A$20:$G$39,7,0),\"\")","v":""},null,{"$f":"IFERROR(VLOOKUP($C$28&$B22,入力シート!$A$20:$G$39,4,0),\"\")","v":""},{"$f":"IFERROR(VLOOKUP($C$28&$B22,入力シート!$A$20:$G$39,6,0),\"\")","v":""}]
[null,4,{"$f":"IFERROR(VLOOKUP($C$28&$B23,入力シート!$A$20:$G$39,7,0),\"\")","v":""},null,{"$f":"IFERROR(VLOOKUP($C$28&$B23,入力シート!$A$20:$G$39,4,0),\"\")","v":""},{"$f":"IFERROR(VLOOKUP($C$28&$B23,入力シート!$A$20:$G$39,6,0),\"\")","v":""}]
[null,5,{"$f":"IFERROR(VLOOKUP($C$28&$B24,入力シート!$A$20:$G$39,7,0),\"\")","v":""},null,{"$f":"IFERROR(VLOOKUP($C$28&$B24,入力シート!$A$20:$G$39,4,0),\"\")","v":""},{"$f":"IFERROR(VLOOKUP($C$28&$B24,入力シート!$A$20:$G$39,6,0),\"\")","v":""}]
[null,6,{"$f":"IFERROR(VLOOKUP($C$28&$B25,入力シート!$A$20:$G$39,7,0),\"\")","v":""},null,{"$f":"IFERROR(VLOOKUP($C$28&$B25,入力シート!$A$20:$G$39,4,0),\"\")","v":""},{"$f":"IFERROR(VLOOKUP($C$28&$B25,入力シート!$A$20:$G$39,6,0),\"\")","v":""}]
[]
[null,"○支出財源"]
[null,"予算科目",{"$f":"基本情報!I27","v":"--"}]
[null,"○振込先指定口座"]
[null,"金融機関名",null,{"$f":"基本情報!C8","v":0},"支店名",{"$f":"基本情報!G8","v":0}]
[null,"預金種別",null,{"$f":"基本情報!C9","v":0},"口座番号",{"$f":"基本情報!G9","v":0}]
[null,"口座名義",null,{"$f":"基本情報!C10","v":0},"フリガナ",{"$f":"基本情報!G10","v":0}]

{"sheet":"請求15","index":17,"n_rows":32,"n_cols":7,"rows_kept":32,"cut":false,"hidden":false,"merged":[[2,5,2,6],[11,2,11,5],[15,2,15,5],[27,2,27,6],[29,1,29,2],[29,5,29,6],[30,1,30,2],[30,5,30,6],[31,1,31,2],[31,5,31,6],[18,2,18,3],[19,2,19,3],[20,2,20,3],[21,2,21,3],[22,2,22,3],[23,2,23,3],[24,2,24,3]]}
["様式第２号"]
[]
[null,null,null,null,null,{"$f":"TODAY()","v":"2014-04-04"}]
[]
[null,"（宛先）公立大学法人前橋工科大学　理事長"]
[]
[null,null,null,null,"（請求者）"]
[null,null,null,null,"所　属",{"$f":"基本情報!D5","v":0}]
[null,null,null,null,"職　名",{"$f":"基本情報!F5","v":0}]
[null,null,null,null,"氏　名",{"$f":"基本情報!H5","v":0},"印"]
[]
[null,null,"立替払請求書"]
[]
[null,{"$f":"TEXT(入力シート!D16,\"[dbnum3]ggge年m月d日\")&\"付、立替払を行った経費について、添付の領収書等に基づき請求します。\"","v":"明治３３年１月０日付、立替払を行った経費について、添付の領収書等に基づき請求します。"}]
[]
[null,null,{"$f":"IF(基本情報!J28=0,\"\",\"請求額：\"&TEXT(基本情報!J28,\"[dbnum3]#,##0\")&\"円\")","v":""}]
[]
[null,null,"【請求内訳】"]
[null,null,"摘　　要",null,"事前承認","金　額"]
[null,1,{"$f":"IFERROR(VLOOKUP($C$28&$B20,入力シート!$A$20:$G$39,7,0),\"\")","v":""},null,{"$f":"IFERROR(VLOOKUP($C$28&$B20,入力シート!$A$20:$G$39,4,0),\"\")","v":""},{"$f":"IFERROR(VLOOKUP($C$28&$B20,入力シート!$A$20:$G$39,6,0),\"\")","v":""}]
[null,2,{"$f":"IFERROR(VLOOKUP($C$28&$B21,入力シート!$A$20:$G$39,7,0),\"\")","v":""},null,{"$f":"IFERROR(VLOOKUP($C$28&$B21,入力シート!$A$20:$G$39,4,0),\"\")","v":""},{"$f":"IFERROR(VLOOKUP($C$28&$B21,入力シート!$A$20:$G$39,6,0),\"\")","v":""}]
[null,3,{"$f":"IFERROR(VLOOKUP($C$28&$B22,入力シート!$A$20:$G$39,7,0),\"\")","v":""},null,{"$f":"IFERROR(VLOOKUP($C$28&$B22,入力シート!$A$20:$G$39,4,0),\"\")","v":""},{"$f":"IFERROR(VLOOKUP($C$28&$B22,入力シート!$A$20:$G$39,6,0),\"\")","v":""}]
[null,4,{"$f":"IFERROR(VLOOKUP($C$28&$B23,入力シート!$A$20:$G$39,7,0),\"\")","v":""},null,{"$f":"IFERROR(VLOOKUP($C$28&$B23,入力シート!$A$20:$G$39,4,0),\"\")","v":""},{"$f":"IFERROR(VLOOKUP($C$28&$B23,入力シート!$A$20:$G$39,6,0),\"\")","v":""}]
[null,5,{"$f":"IFERROR(VLOOKUP($C$28&$B24,入力シート!$A$20:$G$39,7,0),\"\")","v":""},null,{"$f":"IFERROR(VLOOKUP($C$28&$B24,入力シート!$A$20:$G$39,4,0),\"\")","v":""},{"$f":"IFERROR(VLOOKUP($C$28&$B24,入力シート!$A$20:$G$39,6,0),\"\")","v":""}]
[null,6,{"$f":"IFERROR(VLOOKUP($C$28&$B25,入力シート!$A$20:$G$39,7,0),\"\")","v":""},null,{"$f":"IFERROR(VLOOKUP($C$28&$B25,入力シート!$A$20:$G$39,4,0),\"\")","v":""},{"$f":"IFERROR(VLOOKUP($C$28&$B25,入力シート!$A$20:$G$39,6,0),\"\")","v":""}]
[]
[null,"○支出財源"]
[null,"予算科目",{"$f":"基本情報!I28","v":"--"}]
[null,"○振込先指定口座"]
[null,"金融機関名",null,{"$f":"基本情報!C8","v":0},"支店名",{"$f":"基本情報!G8","v":0}]
[null,"預金種別",null,{"$f":"基本情報!C9","v":0},"口座番号",{"$f":"基本情報!G9","v":0}]
[null,"口座名義",null,{"$f":"基本情報!C10","v":0},"フリガナ",{"$f":"基本情報!G10","v":0}]

{"sheet":"請求16","index":18,"n_rows":32,"n_cols":7,"rows_kept":32,"cut":false,"hidden":false,"merged":[[2,5,2,6],[11,2,11,5],[15,2,15,5],[27,2,27,6],[29,1,29,2],[29,5,29,6],[30,1,30,2],[30,5,30,6],[31,1,31,2],[31,5,31,6],[18,2,18,3],[19,2,19,3],[20,2,20,3],[21,2,21,3],[22,2,22,3],[23,2,23,3],[24,2,24,3]]}
["様式第２号"]
[]
[null,null,null,null,null,{"$f":"TODAY()","v":"2014-04-04"}]
[]
[null,"（宛先）公立大学法人前橋工科大学　理事長"]
[]
[null,null,null,null,"（請求者）"]
[null,null,null,null,"所　属",{"$f":"基本情報!D5","v":0}]
[null,null,null,null,"職　名",{"$f":"基本情報!F5","v":0}]
[null,null,null,null,"氏　名",{"$f":"基本情報!H5","v":0},"印"]
[]
[null,null,"立替払請求書"]
[]
[null,{"$f":"TEXT(入力シート!D16,\"[dbnum3]ggge年m月d日\")&\"付、立替払を行った経費について、添付の領収書等に基づき請求します。\"","v":"明治３３年１月０日付、立替払を行った経費について、添付の領収書等に基づき請求します。"}]
[]
[null,null,{"$f":"IF(基本情報!J29=0,\"\",\"請求額：\"&TEXT(基本情報!J29,\"[dbnum3]#,##0\")&\"円\")","v":""}]
[]
[null,null,"【請求内訳】"]
[null,null,"摘　　要",null,"事前承認","金　額"]
[null,1,{"$f":"IFERROR(VLOOKUP($C$28&$B20,入力シート!$A$20:$G$39,7,0),\"\")","v":""},null,{"$f":"IFERROR(VLOOKUP($C$28&$B20,入力シート!$A$20:$G$39,4,0),\"\")","v":""},{"$f":"IFERROR(VLOOKUP($C$28&$B20,入力シート!$A$20:$G$39,6,0),\"\")","v":""}]
[null,2,{"$f":"IFERROR(VLOOKUP($C$28&$B21,入力シート!$A$20:$G$39,7,0),\"\")","v":""},null,{"$f":"IFERROR(VLOOKUP($C$28&$B21,入力シート!$A$20:$G$39,4,0),\"\")","v":""},{"$f":"IFERROR(VLOOKUP($C$28&$B21,入力シート!$A$20:$G$39,6,0),\"\")","v":""}]
[null,3,{"$f":"IFERROR(VLOOKUP($C$28&$B22,入力シート!$A$20:$G$39,7,0),\"\")","v":""},null,{"$f":"IFERROR(VLOOKUP($C$28&$B22,入力シート!$A$20:$G$39,4,0),\"\")","v":""},{"$f":"IFERROR(VLOOKUP($C$28&$B22,入力シート!$A$20:$G$39,6,0),\"\")","v":""}]
[null,4,{"$f":"IFERROR(VLOOKUP($C$28&$B23,入力シート!$A$20:$G$39,7,0),\"\")","v":""},null,{"$f":"IFERROR(VLOOKUP($C$28&$B23,入力シート!$A$20:$G$39,4,0),\"\")","v":""},{"$f":"IFERROR(VLOOKUP($C$28&$B23,入力シート!$A$20:$G$39,6,0),\"\")","v":""}]
[null,5,{"$f":"IFERROR(VLOOKUP($C$28&$B24,入力シート!$A$20:$G$39,7,0),\"\")","v":""},null,{"$f":"IFERROR(VLOOKUP($C$28&$B24,入力シート!$A$20:$G$39,4,0),\"\")","v":""},{"$f":"IFERROR(VLOOKUP($C$28&$B24,入力シート!$A$20:$G$39,6,0),\"\")","v":""}]
[null,6,{"$f":"IFERROR(VLOOKUP($C$28&$B25,入力シート!$A$20:$G$39,7,0),\"\")","v":""},null,{"$f":"IFERROR(VLOOKUP($C$28&$B25,入力シート!$A$20:$G$39,4,0),\"\")","v":""},{"$f":"IFERROR(VLOOKUP($C$28&$B25,入力シート!$A$20:$G$39,6,0),\"\")","v":""}]
[]
[null,"○支出財源"]
[null,"予算科目",{"$f":"基本情報!I29","v":"--"}]
[null,"○振込先指定口座"]
[null,"金融機関名",null,{"$f":"基本情報!C8","v":0},"支店名",{"$f":"基本情報!G8","v":0}]
[null,"預金種別",null,{"$f":"基本情報!C9","v":0},"口座番号",{"$f":"基本情報!G9","v":0}]
[null,"口座名義",null,{"$f":"基本情報!C10","v":0},"フリガナ",{"$f":"基本情報!G10","v":0}]

{"sheet":"請求17","index":19,"n_rows":32,"n_cols":7,"rows_kept":32,"cut":false,"hidden":false,"merged":[[2,5,2,6],[11,2,11,5],[15,2,15,5],[27,2,27,6],[29,1,29,2],[29,5,29,6],[30,1,30,2],[30,5,30,6],[31,1,31,2],[31,5,31,6],[18,2,18,3],[19,2,19,3],[20,2,20,3],[21,2,21,3],[22,2,22,3],[23,2,23,3],[24,2,24,3]]}
["様式第２号"]
[]
[null,null,null,null,null,{"$f":"TODAY()","v":"2014-04-04"}]
[]
[null,"（宛先）公立大学法人前橋工科大学　理事長"]
[]
[null,null,null,null,"（請求者）"]
[null,null,null,null,"所　属",{"$f":"基本情報!D5","v":0}]
[null,null,null,null,"職　名",{"$f":"基本情報!F5","v":0}]
[null,null,null,null,"氏　名",{"$f":"基本情報!H5","v":0},"印"]
[]
[null,null,"立替払請求書"]
[]
[null,{"$f":"TEXT(入力シート!D16,\"[dbnum3]ggge年m月d日\")&\"付、立替払を行った経費について、添付の領収書等に基づき請求します。\"","v":"明治３３年１月０日付、立替払を行った経費について、添付の領収書等に基づき請求します。"}]
[]
[null,null,{"$f":"IF(基本情報!J30=0,\"\",\"請求額：\"&TEXT(基本情報!J30,\"[dbnum3]#,##0\")&\"円\")","v":""}]
[]
[null,null,"【請求内訳】"]
[null,null,"摘　　要",null,"事前承認","金　額"]
[null,1,{"$f":"IFERROR(VLOOKUP($C$28&$B20,入力シート!$A$20:$G$39,7,0),\"\")","v":""},null,{"$f":"IFERROR(VLOOKUP($C$28&$B20,入力シート!$A$20:$G$39,4,0),\"\")","v":""},{"$f":"IFERROR(VLOOKUP($C$28&$B20,入力シート!$A$20:$G$39,6,0),\"\")","v":""}]
[null,2,{"$f":"IFERROR(VLOOKUP($C$28&$B21,入力シート!$A$20:$G$39,7,0),\"\")","v":""},null,{"$f":"IFERROR(VLOOKUP($C$28&$B21,入力シート!$A$20:$G$39,4,0),\"\")","v":""},{"$f":"IFERROR(VLOOKUP($C$28&$B21,入力シート!$A$20:$G$39,6,0),\"\")","v":""}]
[null,3,{"$f":"IFERROR(VLOOKUP($C$28&$B22,入力シート!$A$20:$G$39,7,0),\"\")","v":""},null,{"$f":"IFERROR(VLOOKUP($C$28&$B22,入力シート!$A$20:$G$39,4,0),\"\")","v":""},{"$f":"IFERROR(VLOOKUP($C$28&$B22,入力シート!$A$20:$G$39,6,0),\"\")","v":""}]
[null,4,{"$f":"IFERROR(VLOOKUP($C$28&$B23,入力シート!$A$20:$G$39,7,0),\"\")","v":""},null,{"$f":"IFERROR(VLOOKUP($C$28&$B23,入力シート!$A$20:$G$39,4,0),\"\")","v":""},{"$f":"IFERROR(VLOOKUP($C$28&$B23,入力シート!$A$20:$G$39,6,0),\"\")","v":""}]
[null,5,{"$f":"IFERROR(VLOOKUP($C$28&$B24,入力シート!$A$20:$G$39,7,0),\"\")","v":""},null,{"$f":"IFERROR(VLOOKUP($C$28&$B24,入力シート!$A$20:$G$39,4,0),\"\")","v":""},{"$f":"IFERROR(VLOOKUP($C$28&$B24,入力シート!$A$20:$G$39,6,0),\"\")","v":""}]
[null,6,{"$f":"IFERROR(VLOOKUP($C$28&$B25,入力シート!$A$20:$G$39,7,0),\"\")","v":""},null,{"$f":"IFERROR(VLOOKUP($C$28&$B25,入力シート!$A$20:$G$39,4,0),\"\")","v":""},{"$f":"IFERROR(VLOOKUP($C$28&$B25,入力シート!$A$20:$G$39,6,0),\"\")","v":""}]
[]
[null,"○支出財源"]
[null,"予算科目",{"$f":"基本情報!I30","v":"--"}]
[null,"○振込先指定口座"]
[null,"金融機関名",null,{"$f":"基本情報!C8","v":0},"支店名",{"$f":"基本情報!G8","v":0}]
[null,"預金種別",null,{"$f":"基本情報!C9","v":0},"口座番号",{"$f":"基本情報!G9","v":0}]
[null,"口座名義",null,{"$f":"基本情報!C10","v":0},"フリガナ",{"$f":"基本情報!G10","v":0}]

{"sheet":"請求18","index":20,"n_rows":32,"n_cols":7,"rows_kept":32,"cut":false,"hidden":false,"merged":[[2,5,2,6],[11,2,11,5],[15,2,15,5],[27,2,27,6],[29,1,29,2],[29,5,29,6],[30,1,30,2],[30,5,30,6],[31,1,31,2],[31,5,31,6],[18,2,18,3],[19,2,19,3],[20,2,20,3],[21,2,21,3],[22,2,22,3],[23,2,23,3],[24,2,24,3]]}
["様式第２号"]
[]
[null,null,null,null,null,{"$f":"TODAY()","v":"2014-04-04"}]
[]
[null,"（宛先）公立大学法人前橋工科大学　理事長"]
[]
[null,null,null,null,"（請求者）"]
[null,null,null,null,"所　属",{"$f":"基本情報!D5","v":0}]
[null,null,null,null,"職　名",{"$f":"基本情報!F5","v":0}]
[null,null,null,null,"氏　名",{"$f":"基本情報!H5","v":0},"印"]
[]
[null,null,"立替払請求書"]
[]
[null,{"$f":"TEXT(入力シート!D16,\"[dbnum3]ggge年m月d日\")&\"付、立替払を行った経費について、添付の領収書等に基づき請求します。\"","v":"明治３３年１月０日付、立替払を行った経費について、添付の領収書等に基づき請求します。"}]
[]
[null,null,{"$f":"IF(基本情報!J31=0,\"\",\"請求額：\"&TEXT(基本情報!J31,\"[dbnum3]#,##0\")&\"円\")","v":""}]
[]
[null,null,"【請求内訳】"]
[null,null,"摘　　要",null,"事前承認","金　額"]
[null,1,{"$f":"IFERROR(VLOOKUP($C$28&$B20,入力シート!$A$20:$G$39,7,0),\"\")","v":""},null,{"$f":"IFERROR(VLOOKUP($C$28&$B20,入力シート!$A$20:$G$39,4,0),\"\")","v":""},{"$f":"IFERROR(VLOOKUP($C$28&$B20,入力シート!$A$20:$G$39,6,0),\"\")","v":""}]
[null,2,{"$f":"IFERROR(VLOOKUP($C$28&$B21,入力シート!$A$20:$G$39,7,0),\"\")","v":""},null,{"$f":"IFERROR(VLOOKUP($C$28&$B21,入力シート!$A$20:$G$39,4,0),\"\")","v":""},{"$f":"IFERROR(VLOOKUP($C$28&$B21,入力シート!$A$20:$G$39,6,0),\"\")","v":""}]
[null,3,{"$f":"IFERROR(VLOOKUP($C$28&$B22,入力シート!$A$20:$G$39,7,0),\"\")","v":""},null,{"$f":"IFERROR(VLOOKUP($C$28&$B22,入力シート!$A$20:$G$39,4,0),\"\")","v":""},{"$f":"IFERROR(VLOOKUP($C$28&$B22,入力シート!$A$20:$G$39,6,0),\"\")","v":""}]
[null,4,{"$f":"IFERROR(VLOOKUP($C$28&$B23,入力シート!$A$20:$G$39,7,0),\"\")","v":""},null,{"$f":"IFERROR(VLOOKUP($C$28&$B23,入力シート!$A$20:$G$39,4,0),\"\")","v":""},{"$f":"IFERROR(VLOOKUP($C$28&$B23,入力シート!$A$20:$G$39,6,0),\"\")","v":""}]
[null,5,{"$f":"IFERROR(VLOOKUP($C$28&$B24,入力シート!$A$20:$G$39,7,0),\"\")","v":""},null,{"$f":"IFERROR(VLOOKUP($C$28&$B24,入力シート!$A$20:$G$39,4,0),\"\")","v":""},{"$f":"IFERROR(VLOOKUP($C$28&$B24,入力シート!$A$20:$G$39,6,0),\"\")","v":""}]
[null,6,{"$f":"IFERROR(VLOOKUP($C$28&$B25,入力シート!$A$20:$G$39,7,0),\"\")","v":""},null,{"$f":"IFERROR(VLOOKUP($C$28&$B25,入力シート!$A$20:$G$39,4,0),\"\")","v":""},{"$f":"IFERROR(VLOOKUP($C$28&$B25,入力シート!$A$20:$G$39,6,0),\"\")","v":""}]
[]
[null,"○支出財源"]
[null,"予算科目",{"$f":"基本情報!I31","v":"--"}]
[null,"○振込先指定口座"]
[null,"金融機関名",null,{"$f":"基本情報!C8","v":0},"支店名",{"$f":"基本情報!G8","v":0}]
[null,"預金種別",null,{"$f":"基本情報!C9","v":0},"口座番号",{"$f":"基本情報!G9","v":0}]
[null,"口座名義",null,{"$f":"基本情報!C10","v":0},"フリガナ",{"$f":"基本情報!G10","v":0}]

{"sheet":"請求19","index":21,"n_rows":32,"n_cols":7,"rows_kept":32,"cut":false,"hidden":false,"merged":[[2,5,2,6],[11,2,11,5],[15,2,15,5],[27,2,27,6],[29,1,29,2],[29,5,29,6],[30,1,30,2],[30,5,30,6],[31,1,31,2],[31,5,31,6],[18,2,18,3],[19,2,19,3],[20,2,20,3],[21,2,21,3],[22,2,22,3],[23,2,23,3],[24,2,24,3]]}
["様式第２号"]
[]
[null,null,null,null,null,{"$f":"TODAY()","v":"2014-04-04"}]
[]
[null,"（宛先）公立大学法人前橋工科大学　理事長"]
[]
[null,null,null,null,"（請求者）"]
[null,null,null,null,"所　属",{"$f":"基本情報!D5","v":0}]
[null,null,null,null,"職　名",{"$f":"基本情報!F5","v":0}]
[null,null,null,null,"氏　名",{"$f":"基本情報!H5","v":0},"印"]
[]
[null,null,"立替払請求書"]
[]
[null,{"$f":"TEXT(入力シート!D16,\"[dbnum3]ggge年m月d日\")&\"付、立替払を行った経費について、添付の領収書等に基づき請求します。\"","v":"明治３３年１月０日付、立替払を行った経費について、添付の領収書等に基づき請求します。"}]
[]
[null,null,{"$f":"IF(基本情報!J32=0,\"\",\"請求額：\"&TEXT(基本情報!J32,\"[dbnum3]#,##0\")&\"円\")","v":""}]
[]
[null,null,"【請求内訳】"]
[null,null,"摘　　要",null,"事前承認","金　額"]
[null,1,{"$f":"IFERROR(VLOOKUP($C$28&$B20,入力シート!$A$20:$G$39,7,0),\"\")","v":""},null,{"$f":"IFERROR(VLOOKUP($C$28&$B20,入力シート!$A$20:$G$39,4,0),\"\")","v":""},{"$f":"IFERROR(VLOOKUP($C$28&$B20,入力シート!$A$20:$G$39,6,0),\"\")","v":""}]
[null,2,{"$f":"IFERROR(VLOOKUP($C$28&$B21,入力シート!$A$20:$G$39,7,0),\"\")","v":""},null,{"$f":"IFERROR(VLOOKUP($C$28&$B21,入力シート!$A$20:$G$39,4,0),\"\")","v":""},{"$f":"IFERROR(VLOOKUP($C$28&$B21,入力シート!$A$20:$G$39,6,0),\"\")","v":""}]
[null,3,{"$f":"IFERROR(VLOOKUP($C$28&$B22,入力シート!$A$20:$G$39,7,0),\"\")","v":""},null,{"$f":"IFERROR(VLOOKUP($C$28&$B22,入力シート!$A$20:$G$39,4,0),\"\")","v":""},{"$f":"IFERROR(VLOOKUP($C$28&$B22,入力シート!$A$20:$G$39,6,0),\"\")","v":""}]
[null,4,{"$f":"IFERROR(VLOOKUP($C$28&$B23,入力シート!$A$20:$G$39,7,0),\"\")","v":""},null,{"$f":"IFERROR(VLOOKUP($C$28&$B23,入力シート!$A$20:$G$39,4,0),\"\")","v":""},{"$f":"IFERROR(VLOOKUP($C$28&$B23,入力シート!$A$20:$G$39,6,0),\"\")","v":""}]
[null,5,{"$f":"IFERROR(VLOOKUP($C$28&$B24,入力シート!$A$20:$G$39,7,0),\"\")","v":""},null,{"$f":"IFERROR(VLOOKUP($C$28&$B24,入力シート!$A$20:$G$39,4,0),\"\")","v":""},{"$f":"IFERROR(VLOOKUP($C$28&$B24,入力シート!$A$20:$G$39,6,0),\"\")","v":""}]
[null,6,{"$f":"IFERROR(VLOOKUP($C$28&$B25,入力シート!$A$20:$G$39,7,0),\"\")","v":""},null,{"$f":"IFERROR(VLOOKUP($C$28&$B25,入力シート!$A$20:$G$39,4,0),\"\")","v":""},{"$f":"IFERROR(VLOOKUP($C$28&$B25,入力シート!$A$20:$G$39,6,0),\"\")","v":""}]
[]
[null,"○支出財源"]
[null,"予算科目",{"$f":"基本情報!I32","v":"--"}]
[null,"○振込先指定口座"]
[null,"金融機関名",null,{"$f":"基本情報!C8","v":0},"支店名",{"$f":"基本情報!G8","v":0}]
[null,"預金種別",null,{"$f":"基本情報!C9","v":0},"口座番号",{"$f":"基本情報!G9","v":0}]
[null,"口座名義",null,{"$f":"基本情報!C10","v":0},"フリガナ",{"$f":"基本情報!G10","v":0}]

{"sheet":"請求20","index":22,"n_rows":32,"n_cols":7,"rows_kept":32,"cut":false,"hidden":false,"merged":[[2,5,2,6],[11,2,11,5],[15,2,15,5],[27,2,27,6],[29,1,29,2],[29,5,29,6],[30,1,30,2],[30,5,30,6],[31,1,31,2],[31,5,31,6],[18,2,18,3],[19,2,19,3],[20,2,20,3],[21,2,21,3],[22,2,22,3],[23,2,23,3],[24,2,24,3]]}
["様式第２号"]
[]
[null,null,null,null,null,{"$f":"TODAY()","v":"2014-04-04"}]
[]
[null,"（宛先）公立大学法人前橋工科大学　理事長"]
[]
[null,null,null,null,"（請求者）"]
[null,null,null,null,"所　属",{"$f":"基本情報!D5","v":0}]
[null,null,null,null,"職　名",{"$f":"基本情報!F5","v":0}]
[null,null,null,null,"氏　名",{"$f":"基本情報!H5","v":0},"印"]
[]
[null,null,"立替払請求書"]
[]
[null,{"$f":"TEXT(入力シート!D16,\"[dbnum3]ggge年m月d日\")&\"付、立替払を行った経費について、添付の領収書等に基づき請求します。\"","v":"明治３３年１月０日付、立替払を行った経費について、添付の領収書等に基づき請求します。"}]
[]
[null,null,{"$f":"IF(基本情報!J33=0,\"\",\"請求額：\"&TEXT(基本情報!J33,\"[dbnum3]#,##0\")&\"円\")","v":""}]
[]
[null,null,"【請求内訳】"]
[null,null,"摘　　要",null,"事前承認","金　額"]
[null,1,{"$f":"IFERROR(VLOOKUP($C$28&$B20,入力シート!$A$20:$G$39,7,0),\"\")","v":""},null,{"$f":"IFERROR(VLOOKUP($C$28&$B20,入力シート!$A$20:$G$39,4,0),\"\")","v":""},{"$f":"IFERROR(VLOOKUP($C$28&$B20,入力シート!$A$20:$G$39,6,0),\"\")","v":""}]
[null,2,{"$f":"IFERROR(VLOOKUP($C$28&$B21,入力シート!$A$20:$G$39,7,0),\"\")","v":""},null,{"$f":"IFERROR(VLOOKUP($C$28&$B21,入力シート!$A$20:$G$39,4,0),\"\")","v":""},{"$f":"IFERROR(VLOOKUP($C$28&$B21,入力シート!$A$20:$G$39,6,0),\"\")","v":""}]
[null,3,{"$f":"IFERROR(VLOOKUP($C$28&$B22,入力シート!$A$20:$G$39,7,0),\"\")","v":""},null,{"$f":"IFERROR(VLOOKUP($C$28&$B22,入力シート!$A$20:$G$39,4,0),\"\")","v":""},{"$f":"IFERROR(VLOOKUP($C$28&$B22,入力シート!$A$20:$G$39,6,0),\"\")","v":""}]
[null,4,{"$f":"IFERROR(VLOOKUP($C$28&$B23,入力シート!$A$20:$G$39,7,0),\"\")","v":""},null,{"$f":"IFERROR(VLOOKUP($C$28&$B23,入力シート!$A$20:$G$39,4,0),\"\")","v":""},{"$f":"IFERROR(VLOOKUP($C$28&$B23,入力シート!$A$20:$G$39,6,0),\"\")","v":""}]
[null,5,{"$f":"IFERROR(VLOOKUP($C$28&$B24,入力シート!$A$20:$G$39,7,0),\"\")","v":""},null,{"$f":"IFERROR(VLOOKUP($C$28&$B24,入力シート!$A$20:$G$39,4,0),\"\")","v":""},{"$f":"IFERROR(VLOOKUP($C$28&$B24,入力シート!$A$20:$G$39,6,0),\"\")","v":""}]
[null,6,{"$f":"IFERROR(VLOOKUP($C$28&$B25,入力シート!$A$20:$G$39,7,0),\"\")","v":""},null,{"$f":"IFERROR(VLOOKUP($C$28&$B25,入力シート!$A$20:$G$39,4,0),\"\")","v":""},{"$f":"IFERROR(VLOOKUP($C$28&$B25,入力シート!$A$20:$G$39,6,0),\"\")","v":""}]
[]
[null,"○支出財源"]
[null,"予算科目",{"$f":"基本情報!I33","v":"--"}]
[null,"○振込先指定口座"]
[null,"金融機関名",null,{"$f":"基本情報!C8","v":0},"支店名",{"$f":"基本情報!G8","v":0}]
[null,"預金種別",null,{"$f":"基本情報!C9","v":0},"口座番号",{"$f":"基本情報!G9","v":0}]
[null,"口座名義",null,{"$f":"基本情報!C10","v":0},"フリガナ",{"$f":"基本情報!G10","v":0}]